BEGIN:VCALENDAR
VERSION:2.0
PRODID:-//Plastics Business - ECPv6.15.17.1//NONSGML v1.0//EN
CALSCALE:GREGORIAN
METHOD:PUBLISH
X-WR-CALNAME:Plastics Business
X-ORIGINAL-URL:https://plasticsbusinessmag.com
X-WR-CALDESC:Events for Plastics Business
REFRESH-INTERVAL;VALUE=DURATION:PT1H
X-Robots-Tag:noindex
X-PUBLISHED-TTL:PT1H
BEGIN:VTIMEZONE
TZID:America/Chicago
BEGIN:DAYLIGHT
TZOFFSETFROM:-0600
TZOFFSETTO:-0500
TZNAME:CDT
DTSTART:20240310T080000
END:DAYLIGHT
BEGIN:STANDARD
TZOFFSETFROM:-0500
TZOFFSETTO:-0600
TZNAME:CST
DTSTART:20241103T070000
END:STANDARD
BEGIN:DAYLIGHT
TZOFFSETFROM:-0600
TZOFFSETTO:-0500
TZNAME:CDT
DTSTART:20250309T080000
END:DAYLIGHT
BEGIN:STANDARD
TZOFFSETFROM:-0500
TZOFFSETTO:-0600
TZNAME:CST
DTSTART:20251102T070000
END:STANDARD
BEGIN:DAYLIGHT
TZOFFSETFROM:-0600
TZOFFSETTO:-0500
TZNAME:CDT
DTSTART:20260308T080000
END:DAYLIGHT
BEGIN:STANDARD
TZOFFSETFROM:-0500
TZOFFSETTO:-0600
TZNAME:CST
DTSTART:20261101T070000
END:STANDARD
END:VTIMEZONE
BEGIN:VEVENT
DTSTART;VALUE=DATE:20251001
DTEND;VALUE=DATE:20251004
DTSTAMP:20260419T142352
CREATED:20241122T175423Z
LAST-MODIFIED:20250528T191615Z
UID:13994-1759276800-1759535999@plasticsbusinessmag.com
SUMMARY:2025 Benchmarking and Best Practices Conference
DESCRIPTION:Mark your calendars for October 1-3\, 2025\, as we gather at the Indianapolis Marriott Downtown for this premier event! \nThe Conference Committee is hard at work planning an incredible program designed to inspire\, educate\, and connect industry leaders like you. \nQuestions please reach out to mkates@mappinc.com. \n\n\nFor more information and to register: https://www.mappinc.com/conference
URL:https://plasticsbusinessmag.com/event/save-the-date-2025-benchmarking-and-best-practices-conference/
LOCATION:Indianapolis Downtown Marriott\, Indianapolis\, IN
CATEGORIES:Conference
ATTACH;FMTTYPE=image/png:https://plasticsbusinessmag.com/wp-content/uploads/2025-BC-Logo-with-theme.png
END:VEVENT
END:VCALENDAR