BEGIN:VCALENDAR
VERSION:2.0
PRODID:-//Plastics Business - ECPv6.15.17.1//NONSGML v1.0//EN
CALSCALE:GREGORIAN
METHOD:PUBLISH
X-WR-CALNAME:Plastics Business
X-ORIGINAL-URL:https://plasticsbusinessmag.com
X-WR-CALDESC:Events for Plastics Business
REFRESH-INTERVAL;VALUE=DURATION:PT1H
X-Robots-Tag:noindex
X-PUBLISHED-TTL:PT1H
BEGIN:VTIMEZONE
TZID:America/Chicago
BEGIN:DAYLIGHT
TZOFFSETFROM:-0600
TZOFFSETTO:-0500
TZNAME:CDT
DTSTART:20240310T080000
END:DAYLIGHT
BEGIN:STANDARD
TZOFFSETFROM:-0500
TZOFFSETTO:-0600
TZNAME:CST
DTSTART:20241103T070000
END:STANDARD
BEGIN:DAYLIGHT
TZOFFSETFROM:-0600
TZOFFSETTO:-0500
TZNAME:CDT
DTSTART:20250309T080000
END:DAYLIGHT
BEGIN:STANDARD
TZOFFSETFROM:-0500
TZOFFSETTO:-0600
TZNAME:CST
DTSTART:20251102T070000
END:STANDARD
BEGIN:DAYLIGHT
TZOFFSETFROM:-0600
TZOFFSETTO:-0500
TZNAME:CDT
DTSTART:20260308T080000
END:DAYLIGHT
BEGIN:STANDARD
TZOFFSETFROM:-0500
TZOFFSETTO:-0600
TZNAME:CST
DTSTART:20261101T070000
END:STANDARD
END:VTIMEZONE
BEGIN:VEVENT
DTSTART;VALUE=DATE:20250711
DTEND;VALUE=DATE:20250712
DTSTAMP:20260419T200041
CREATED:20250701T153642Z
LAST-MODIFIED:20250701T153642Z
UID:14817-1752192000-1752278399@plasticsbusinessmag.com
SUMMARY:Showcase Your Innovation at the 2025 MAPP Innovation Award Competition!
DESCRIPTION:Are you ready to shine? The 2025 Innovation Award Competition is your chance to highlight groundbreaking advancements in Automated Manufacturing Solutions or Artificial Intelligence Incorporation. \nWhy Enter?  \n\nGain industry-wide recognition for your cutting-edge innovations\nInspire peers and drive progress across the manufacturing sector\nCompete for a prestigious award judged on Impact\, Innovation\, Sustainability\, Value\, and In-House Creation\n\nMultiple submissions encouraged! Submit your best ideas before the July 11\, 2025 deadline. All entries will be reviewed and sent to membership for voting. \nWinners will be honored at the 2025 Benchmarking and Best Practices Conference\, October 1-3 in Indianapolis\, IN. \nQuestions? Contact us at info@mappinc.com. \nSubmit your entry today: Click here for the Award Submission Form \nIf you have questions or issues\, please don’t hesitate to reach out to us at info@mappinc.com \n\n\n\n\n\n\n\n\nFor more information and to register:\nhttps://firstresource.qualtrics.com/jfe/form/SV_3PIDFCiiqT3YSjk
URL:https://plasticsbusinessmag.com/event/showcase-your-innovation-at-the-2025-mapp-innovation-award-competition/
ATTACH;FMTTYPE=image/jpeg:https://plasticsbusinessmag.com/wp-content/uploads/MAPP-Innovation-Award-2025.jpg
END:VEVENT
END:VCALENDAR