BEGIN:VCALENDAR
VERSION:2.0
PRODID:-//Plastics Business - ECPv6.15.17.1//NONSGML v1.0//EN
CALSCALE:GREGORIAN
METHOD:PUBLISH
X-ORIGINAL-URL:https://plasticsbusinessmag.com
X-WR-CALDESC:Events for Plastics Business
REFRESH-INTERVAL;VALUE=DURATION:PT1H
X-Robots-Tag:noindex
X-PUBLISHED-TTL:PT1H
BEGIN:VTIMEZONE
TZID:UTC
BEGIN:STANDARD
TZOFFSETFROM:+0000
TZOFFSETTO:+0000
TZNAME:UTC
DTSTART:20240101T000000
END:STANDARD
END:VTIMEZONE
BEGIN:VEVENT
DTSTART;TZID=UTC:20250313T083000
DTEND;TZID=UTC:20250313T170000
DTSTAMP:20260419T182012
CREATED:20250220T220830Z
LAST-MODIFIED:20250220T220830Z
UID:14302-1741854600-1741885200@plasticsbusinessmag.com
SUMMARY:Moldex3D Molding Innovation Day 2025 – University of Massachusetts Lowell
DESCRIPTION:March 13\, 2025 8:30 AM–5:00 PM EDT \n\n\nMoldex3D and the University of Massachusetts Lowell are excited to co-host the Molding Innovation Day on March 13th\, 2025. This seminar will be dedicated to exploring the cutting-edge advancements in simulation solutions\, specifically tailored to tackle prevalent challenges in injection molding. To enrich the experience\, a half-day hands-on workshop will be conducted\, providing participants with valuable insights and guidance led by Moldex3D experts. \nAdmission to this event comes at no cost\, making it accessible to all interested individuals. Furthermore\, attendees who are not currently using Moldex3D software will receive a complimentary 1-month trial license as an added bonus. \n\n\nFor more information and to register:\nhttps://www.moldex3d.com/events/conference/molding-innovation-day-2025-university-of-massachusetts-lowell/
URL:https://plasticsbusinessmag.com/event/moldex3d-molding-innovation-day-2025-university-of-massachusetts-lowell/
LOCATION:University of Massachusetts Lowell\, Lowell\, MA\, USA\, 1 University Ave\, Lowell\, MA\, 01854\, United States
CATEGORIES:Workshop
ATTACH;FMTTYPE=image/jpeg:https://plasticsbusinessmag.com/wp-content/uploads/Moldex3D-Mass-Lowell-Innovation-Day.jpg
END:VEVENT
END:VCALENDAR