BEGIN:VCALENDAR
VERSION:2.0
PRODID:-//Plastics Business - ECPv6.15.17.1//NONSGML v1.0//EN
CALSCALE:GREGORIAN
METHOD:PUBLISH
X-ORIGINAL-URL:https://plasticsbusinessmag.com
X-WR-CALDESC:Events for Plastics Business
REFRESH-INTERVAL;VALUE=DURATION:PT1H
X-Robots-Tag:noindex
X-PUBLISHED-TTL:PT1H
BEGIN:VTIMEZONE
TZID:America/Chicago
BEGIN:DAYLIGHT
TZOFFSETFROM:-0600
TZOFFSETTO:-0500
TZNAME:CDT
DTSTART:20230312T080000
END:DAYLIGHT
BEGIN:STANDARD
TZOFFSETFROM:-0500
TZOFFSETTO:-0600
TZNAME:CST
DTSTART:20231105T070000
END:STANDARD
BEGIN:DAYLIGHT
TZOFFSETFROM:-0600
TZOFFSETTO:-0500
TZNAME:CDT
DTSTART:20240310T080000
END:DAYLIGHT
BEGIN:STANDARD
TZOFFSETFROM:-0500
TZOFFSETTO:-0600
TZNAME:CST
DTSTART:20241103T070000
END:STANDARD
BEGIN:DAYLIGHT
TZOFFSETFROM:-0600
TZOFFSETTO:-0500
TZNAME:CDT
DTSTART:20250309T080000
END:DAYLIGHT
BEGIN:STANDARD
TZOFFSETFROM:-0500
TZOFFSETTO:-0600
TZNAME:CST
DTSTART:20251102T070000
END:STANDARD
END:VTIMEZONE
BEGIN:VEVENT
DTSTART;TZID=America/Chicago:20241202T080000
DTEND;TZID=America/Chicago:20241213T150000
DTSTAMP:20260420T014103
CREATED:20240807T185748Z
LAST-MODIFIED:20240807T185748Z
UID:13466-1733126400-1734102000@plasticsbusinessmag.com
SUMMARY:RJG Master Molder® I
DESCRIPTION:December 2\, 2024 8:00 AM–December 13\, 2024 3:00 PM  | Traverse City\, Michigan \nMaster Molder I \n\nThis 10-day certificate course focuses on the best practices of DECOUPLED MOLDING® II process development\, documentation\, and duplication for any mold in any capable machine. To help students apply scientific molding principles\, the schedule offers a blend of hands-on time with the molds and machines and participative classroom time. The goal is not necessarily to be able to “run machines” but to achieve an understanding of the “whys” behind the manipulation of key processing variables from the plastic’s point of view. During the last 2 days\, participants are assessed on process development\, process matching\, and general molding theory and methodology through timed final exams to confirm the effective transfer of critical knowledge and skills. For more information and to register\, click here. \n\n\nFor more information and to register:\nhttps://rjginc.com/training/registration/master-molder-i/?utm_source=mapp&utm_medium=website&utm_campaign=mapp_website_event&utm_term=&utm_content=master_molder_i
URL:https://plasticsbusinessmag.com/event/rjg-master-molder-i/
LOCATION:MI
CATEGORIES:Training,Workshop
ATTACH;FMTTYPE=image/jpeg:https://plasticsbusinessmag.com/wp-content/uploads/pb-enews-logo-new-rjg.jpg
END:VEVENT
END:VCALENDAR