BEGIN:VCALENDAR
VERSION:2.0
PRODID:-//Plastics Business - ECPv6.15.17.1//NONSGML v1.0//EN
CALSCALE:GREGORIAN
METHOD:PUBLISH
X-WR-CALNAME:Plastics Business
X-ORIGINAL-URL:https://plasticsbusinessmag.com
X-WR-CALDESC:Events for Plastics Business
REFRESH-INTERVAL;VALUE=DURATION:PT1H
X-Robots-Tag:noindex
X-PUBLISHED-TTL:PT1H
BEGIN:VTIMEZONE
TZID:America/Halifax
BEGIN:DAYLIGHT
TZOFFSETFROM:-0400
TZOFFSETTO:-0300
TZNAME:ADT
DTSTART:20230312T060000
END:DAYLIGHT
BEGIN:STANDARD
TZOFFSETFROM:-0300
TZOFFSETTO:-0400
TZNAME:AST
DTSTART:20231105T050000
END:STANDARD
BEGIN:DAYLIGHT
TZOFFSETFROM:-0400
TZOFFSETTO:-0300
TZNAME:ADT
DTSTART:20240310T060000
END:DAYLIGHT
BEGIN:STANDARD
TZOFFSETFROM:-0300
TZOFFSETTO:-0400
TZNAME:AST
DTSTART:20241103T050000
END:STANDARD
BEGIN:DAYLIGHT
TZOFFSETFROM:-0400
TZOFFSETTO:-0300
TZNAME:ADT
DTSTART:20250309T060000
END:DAYLIGHT
BEGIN:STANDARD
TZOFFSETFROM:-0300
TZOFFSETTO:-0400
TZNAME:AST
DTSTART:20251102T050000
END:STANDARD
END:VTIMEZONE
BEGIN:VEVENT
DTSTART;TZID=America/Halifax:20240815T090000
DTEND;TZID=America/Halifax:20240815T163000
DTSTAMP:20260420T125300
CREATED:20240807T190253Z
LAST-MODIFIED:20240807T190253Z
UID:13469-1723712400-1723739400@plasticsbusinessmag.com
SUMMARY:Moldex3D - Molding Innovation Day 2024 – University of Louisville
DESCRIPTION:August 15\, 2024 9:00 AM–4:30 PM EDT \n\nMoldex3D.- Molding Innovation Day 2024 – University of Louisville\, Louisville\, Kentucky – Admission to this event is completely free \nJoin us for a remarkable event as Moldex3D\, Simpatec and the University of Louisville collaborate to co-host the Molding Innovation Day on August 15th\, 2024. This extraordinary gathering aims to delve into the forefront of simulation solutions\, specifically customized to address the prevailing challenges in the realm of injection molding. To enhance the overall experience\, an engaging half-day workshop will be organized\, offering participants invaluable insights and expert guidance facilitated by the esteemed professionals at Moldex3D. \n\n\nFor more information\, the agenda and to register:\nhttps://www.moldex3d.com/events/conference/molding-innovation-day-2024-university-of-louisville/
URL:https://plasticsbusinessmag.com/event/moldex3d-molding-innovation-day-2024-university-of-louisville/
LOCATION:University of Louisville\, Louisville\, Kentucky
CATEGORIES:Workshop
ATTACH;FMTTYPE=image/png:https://plasticsbusinessmag.com/wp-content/uploads/Molding-Innovation-Day-2024.png
END:VEVENT
END:VCALENDAR