BEGIN:VCALENDAR
VERSION:2.0
PRODID:-//Plastics Business - ECPv6.15.17.1//NONSGML v1.0//EN
CALSCALE:GREGORIAN
METHOD:PUBLISH
X-ORIGINAL-URL:https://plasticsbusinessmag.com
X-WR-CALDESC:Events for Plastics Business
REFRESH-INTERVAL;VALUE=DURATION:PT1H
X-Robots-Tag:noindex
X-PUBLISHED-TTL:PT1H
BEGIN:VTIMEZONE
TZID:America/Chicago
BEGIN:DAYLIGHT
TZOFFSETFROM:-0600
TZOFFSETTO:-0500
TZNAME:CDT
DTSTART:20210314T080000
END:DAYLIGHT
BEGIN:STANDARD
TZOFFSETFROM:-0500
TZOFFSETTO:-0600
TZNAME:CST
DTSTART:20211107T070000
END:STANDARD
BEGIN:DAYLIGHT
TZOFFSETFROM:-0600
TZOFFSETTO:-0500
TZNAME:CDT
DTSTART:20220313T080000
END:DAYLIGHT
BEGIN:STANDARD
TZOFFSETFROM:-0500
TZOFFSETTO:-0600
TZNAME:CST
DTSTART:20221106T070000
END:STANDARD
BEGIN:DAYLIGHT
TZOFFSETFROM:-0600
TZOFFSETTO:-0500
TZNAME:CDT
DTSTART:20230312T080000
END:DAYLIGHT
BEGIN:STANDARD
TZOFFSETFROM:-0500
TZOFFSETTO:-0600
TZNAME:CST
DTSTART:20231105T070000
END:STANDARD
END:VTIMEZONE
BEGIN:VEVENT
DTSTART;TZID=America/Chicago:20220426T080000
DTEND;TZID=America/Chicago:20220428T170000
DTSTAMP:20260422T174058
CREATED:20220407T160104Z
LAST-MODIFIED:20220407T160104Z
UID:10443-1650960000-1651165200@plasticsbusinessmag.com
SUMMARY:Paulson Training Programs\, Inc. Profitable Molding for Managers
DESCRIPTION:A 3-day injection molding seminar that teaches the business of profitable molding for managers. The primary focus is on identifying\, monitoring and controlling the cost drivers of an injection molding plant. Cost drivers are those items which dictate how much profit is made. Managers of molding plants are swamped daily with a myriad of issues\, many of the “immediate” variety. Those daily fires can obscure the important metrics by which success will be measured and achieved. Certification: Successful completion of this course earns attendees a Certificate of Completion.
URL:https://plasticsbusinessmag.com/event/paulson-training-programs-inc-profitable-molding-for-managers/
LOCATION:MI
CATEGORIES:Virtual,Workshop
ATTACH;FMTTYPE=image/jpeg:https://plasticsbusinessmag.com/wp-content/uploads/Plastics-Business-Featured-Image-e1757030453900.jpg
END:VEVENT
END:VCALENDAR