BEGIN:VCALENDAR
VERSION:2.0
PRODID:-//Plastics Business - ECPv6.15.17.1//NONSGML v1.0//EN
CALSCALE:GREGORIAN
METHOD:PUBLISH
X-ORIGINAL-URL:https://plasticsbusinessmag.com
X-WR-CALDESC:Events for Plastics Business
REFRESH-INTERVAL;VALUE=DURATION:PT1H
X-Robots-Tag:noindex
X-PUBLISHED-TTL:PT1H
BEGIN:VTIMEZONE
TZID:America/Chicago
BEGIN:DAYLIGHT
TZOFFSETFROM:-0600
TZOFFSETTO:-0500
TZNAME:CDT
DTSTART:20230312T080000
END:DAYLIGHT
BEGIN:STANDARD
TZOFFSETFROM:-0500
TZOFFSETTO:-0600
TZNAME:CST
DTSTART:20231105T070000
END:STANDARD
BEGIN:DAYLIGHT
TZOFFSETFROM:-0600
TZOFFSETTO:-0500
TZNAME:CDT
DTSTART:20240310T080000
END:DAYLIGHT
BEGIN:STANDARD
TZOFFSETFROM:-0500
TZOFFSETTO:-0600
TZNAME:CST
DTSTART:20241103T070000
END:STANDARD
BEGIN:DAYLIGHT
TZOFFSETFROM:-0600
TZOFFSETTO:-0500
TZNAME:CDT
DTSTART:20250309T080000
END:DAYLIGHT
BEGIN:STANDARD
TZOFFSETFROM:-0500
TZOFFSETTO:-0600
TZNAME:CST
DTSTART:20251102T070000
END:STANDARD
END:VTIMEZONE
BEGIN:VEVENT
DTSTART;TZID=America/Chicago:20240919T083000
DTEND;TZID=America/Chicago:20240919T153000
DTSTAMP:20260420T073415
CREATED:20240909T205333Z
LAST-MODIFIED:20240909T205333Z
UID:13662-1726734600-1726759800@plasticsbusinessmag.com
SUMMARY:Molding Innovation Day 2024 – Chicago – LS Mtron
DESCRIPTION:Join us at the LS Mtron Molding Innovation Day in Chicago on September 19th\, 2024\, to connect with industry professionals\, experts\, and peers while exploring the latest in molding technology. Experience live demonstrations of LS Mtron’s cutting-edge molding machines and gain valuable insights into overcoming common challenges in the field. Don’t miss this opportunity to enhance your problem-solving skills and discover innovative solutions that can drive your business forward. \nThe event admission is absolutely free of charge\, ensuring accessibility to all individuals interested in attending. Additionally\, attendees who are not currently utilizing Moldex3D software will receive a complimentary 1-month trial license as an extra bonus\, allowing them to explore its features and capabilities. \nFor agenda and to register\, visit https://www.moldex3d.com/events/conference/molding-innovation-day-2024-chicago-ls-mtron/. \nVenue\nLS Mtron\n939 AEC Drive\, Wood Dale\, IL 60191 \nEvent Contact\nHarshal Bhogesra\nE: sales.us@moldex3d.com\nP: 248-946-4570 ext. 992
URL:https://plasticsbusinessmag.com/event/molding-innovation-day-2024-chicago-ls-mtron/
LOCATION:LS Mtron\, 939 AEC Drive\, Wood Dale\, Illinois\, 60191
CATEGORIES:Workshop
ATTACH;FMTTYPE=image/png:https://plasticsbusinessmag.com/wp-content/uploads/LS-Mtron-Molding-Day-banner.png
ORGANIZER;CN="LS Mtron":MAILTO:sales.us@moldex3d.com
END:VEVENT
END:VCALENDAR