BEGIN:VCALENDAR
VERSION:2.0
PRODID:-//Plastics Business - ECPv6.15.17.1//NONSGML v1.0//EN
CALSCALE:GREGORIAN
METHOD:PUBLISH
X-WR-CALNAME:Plastics Business
X-ORIGINAL-URL:https://plasticsbusinessmag.com
X-WR-CALDESC:Events for Plastics Business
REFRESH-INTERVAL;VALUE=DURATION:PT1H
X-Robots-Tag:noindex
X-PUBLISHED-TTL:PT1H
BEGIN:VTIMEZONE
TZID:America/Chicago
BEGIN:DAYLIGHT
TZOFFSETFROM:-0600
TZOFFSETTO:-0500
TZNAME:CDT
DTSTART:20220313T080000
END:DAYLIGHT
BEGIN:STANDARD
TZOFFSETFROM:-0500
TZOFFSETTO:-0600
TZNAME:CST
DTSTART:20221106T070000
END:STANDARD
BEGIN:DAYLIGHT
TZOFFSETFROM:-0600
TZOFFSETTO:-0500
TZNAME:CDT
DTSTART:20230312T080000
END:DAYLIGHT
BEGIN:STANDARD
TZOFFSETFROM:-0500
TZOFFSETTO:-0600
TZNAME:CST
DTSTART:20231105T070000
END:STANDARD
BEGIN:DAYLIGHT
TZOFFSETFROM:-0600
TZOFFSETTO:-0500
TZNAME:CDT
DTSTART:20240310T080000
END:DAYLIGHT
BEGIN:STANDARD
TZOFFSETFROM:-0500
TZOFFSETTO:-0600
TZNAME:CST
DTSTART:20241103T070000
END:STANDARD
END:VTIMEZONE
BEGIN:VEVENT
DTSTART;VALUE=DATE:20230911
DTEND;VALUE=DATE:20230916
DTSTAMP:20260421T102100
CREATED:20230712T204735Z
LAST-MODIFIED:20230712T204735Z
UID:11950-1694390400-1694822399@plasticsbusinessmag.com
SUMMARY:Paulson Training Program- ProMolder 2
DESCRIPTION:Paulson Plastics Academy seminars are robust\, content-packed\, instructor-led classes designed just for you – the plastic processor; taught by our dynamic instructors. You’ll learn: \n\nsolving processing problems faster\neffectively optimizing machine settings\nreducing material waste and saving big time\nminimizing cycle times and increasing efficiency\nhow the four plastic variables affect machine controls\, and a whole lot more\nCERTIFICATION\n\nAnd with each seminar you’ll have ample time with the instructor and lively interaction with fellow class mates. You’ll be amazed at how much you can learn. Register TODAY! \nBONUS: All ProMolder Classes Include Interactive Lab Lessons with SimTech™ \nIncluded in each ProMolder class is an immersive hands-on learning lab with our powerful injection molding machine simulation learning tool SimTech™.  Paulson’s exclusive and proprietary learning tool combined with Paulson’s industry leading teaching methods will give you the critical skills necessary to solve and troubleshoot any plastic part problem.
URL:https://plasticsbusinessmag.com/event/paulson-training-program-promolder-2/
LOCATION:MI
CATEGORIES:Workshop
ATTACH;FMTTYPE=image/png:https://plasticsbusinessmag.com/wp-content/uploads/Paulson.png
END:VEVENT
BEGIN:VEVENT
DTSTART;VALUE=DATE:20230925
DTEND;VALUE=DATE:20230929
DTSTAMP:20260421T102100
CREATED:20230712T211501Z
LAST-MODIFIED:20230712T211501Z
UID:11957-1695600000-1695945599@plasticsbusinessmag.com
SUMMARY:Paulson Training Program- ProMolder 1
DESCRIPTION:Paulson Plastics Academy seminars are robust\, content-packed\, instructor-led classes designed just for you – the plastic processor; taught by our dynamic instructors. You’ll learn: \n\nsolving processing problems faster\neffectively optimizing machine settings\nreducing material waste and saving big time\nminimizing cycle times and increasing efficiency\nhow the four plastic variables affect machine controls\, and a whole lot more\nCERTIFICATION\n\nAnd with each seminar you’ll have ample time with the instructor and lively interaction with fellow class mates. You’ll be amazed at how much you can learn. Register TODAY! \nBONUS: All ProMolder Classes Include Interactive Lab Lessons with SimTech™ \nIncluded in each ProMolder class is an immersive hands-on learning lab with our powerful injection molding machine simulation learning tool SimTech™.  Paulson’s exclusive and proprietary learning tool combined with Paulson’s industry leading teaching methods will give you the critical skills necessary to solve and troubleshoot any plastic part problem.
URL:https://plasticsbusinessmag.com/event/paulson-training-program-promolder-1-2/
LOCATION:MI
CATEGORIES:Virtual,Workshop
ATTACH;FMTTYPE=image/png:https://plasticsbusinessmag.com/wp-content/uploads/Paulson.png
END:VEVENT
END:VCALENDAR