BEGIN:VCALENDAR
VERSION:2.0
PRODID:-//Plastics Business - ECPv6.15.17.1//NONSGML v1.0//EN
CALSCALE:GREGORIAN
METHOD:PUBLISH
X-ORIGINAL-URL:https://plasticsbusinessmag.com
X-WR-CALDESC:Events for Plastics Business
REFRESH-INTERVAL;VALUE=DURATION:PT1H
X-Robots-Tag:noindex
X-PUBLISHED-TTL:PT1H
BEGIN:VTIMEZONE
TZID:America/Chicago
BEGIN:DAYLIGHT
TZOFFSETFROM:-0600
TZOFFSETTO:-0500
TZNAME:CDT
DTSTART:20220313T080000
END:DAYLIGHT
BEGIN:STANDARD
TZOFFSETFROM:-0500
TZOFFSETTO:-0600
TZNAME:CST
DTSTART:20221106T070000
END:STANDARD
BEGIN:DAYLIGHT
TZOFFSETFROM:-0600
TZOFFSETTO:-0500
TZNAME:CDT
DTSTART:20230312T080000
END:DAYLIGHT
BEGIN:STANDARD
TZOFFSETFROM:-0500
TZOFFSETTO:-0600
TZNAME:CST
DTSTART:20231105T070000
END:STANDARD
BEGIN:DAYLIGHT
TZOFFSETFROM:-0600
TZOFFSETTO:-0500
TZNAME:CDT
DTSTART:20240310T080000
END:DAYLIGHT
BEGIN:STANDARD
TZOFFSETFROM:-0500
TZOFFSETTO:-0600
TZNAME:CST
DTSTART:20241103T070000
END:STANDARD
END:VTIMEZONE
BEGIN:VEVENT
DTSTART;VALUE=DATE:20230516
DTEND;VALUE=DATE:20230517
DTSTAMP:20260421T172953
CREATED:20230131T173551Z
LAST-MODIFIED:20230131T173551Z
UID:11389-1684195200-1684281599@plasticsbusinessmag.com
SUMMARY:RJG Academy DECOUPLED MOLDING Workshop
DESCRIPTION:This workshop is designed to provide participants with valuable hands-on machine time to reinforce the methodologies they learned in Systematic Molding or Fundamentals of Systematic Molding. It offers the exact same exercises as Master Molder® I\, but with half the practice time and none of the testing. Companies that are not allowed by their customers to make changes to processes can substitute the Template Match Workshop for the DECOUPLED MOLDING® Workshop. \nAttendees will acquire the knowledge they need to dissect and rebuild the process using data-driven methodologies\, then document the return on investment and indicate potential improvement areas using the current condition of the machine and mold. The end result will be the most robust process possible with the current conditions. For those interested in using this training to achieve real-world process improvement ROI\, an RJG consultant may be hired at a later date to mentor you on one or more of the machines at your facility.
URL:https://plasticsbusinessmag.com/event/rjg-academy-decoupled-molding-workshop/
LOCATION:MI
CATEGORIES:Training,Workshop
ATTACH;FMTTYPE=image/jpeg:https://plasticsbusinessmag.com/wp-content/uploads/Plastics-Business-Featured-Image-e1757030453900.jpg
END:VEVENT
END:VCALENDAR