BEGIN:VCALENDAR
VERSION:2.0
PRODID:-//Plastics Business - ECPv6.15.17.1//NONSGML v1.0//EN
CALSCALE:GREGORIAN
METHOD:PUBLISH
X-WR-CALNAME:Plastics Business
X-ORIGINAL-URL:https://plasticsbusinessmag.com
X-WR-CALDESC:Events for Plastics Business
REFRESH-INTERVAL;VALUE=DURATION:PT1H
X-Robots-Tag:noindex
X-PUBLISHED-TTL:PT1H
BEGIN:VTIMEZONE
TZID:America/Detroit
BEGIN:DAYLIGHT
TZOFFSETFROM:-0500
TZOFFSETTO:-0400
TZNAME:EDT
DTSTART:20240310T070000
END:DAYLIGHT
BEGIN:STANDARD
TZOFFSETFROM:-0400
TZOFFSETTO:-0500
TZNAME:EST
DTSTART:20241103T060000
END:STANDARD
BEGIN:DAYLIGHT
TZOFFSETFROM:-0500
TZOFFSETTO:-0400
TZNAME:EDT
DTSTART:20250309T070000
END:DAYLIGHT
BEGIN:STANDARD
TZOFFSETFROM:-0400
TZOFFSETTO:-0500
TZNAME:EST
DTSTART:20251102T060000
END:STANDARD
BEGIN:DAYLIGHT
TZOFFSETFROM:-0500
TZOFFSETTO:-0400
TZNAME:EDT
DTSTART:20260308T070000
END:DAYLIGHT
BEGIN:STANDARD
TZOFFSETFROM:-0400
TZOFFSETTO:-0500
TZNAME:EST
DTSTART:20261101T060000
END:STANDARD
END:VTIMEZONE
BEGIN:VEVENT
DTSTART;TZID=America/Detroit:20250820T140000
DTEND;TZID=America/Detroit:20250820T150000
DTSTAMP:20260419T102513
CREATED:20250813T164043Z
LAST-MODIFIED:20250813T164043Z
UID:14927-1755698400-1755702000@plasticsbusinessmag.com
SUMMARY:Moldex3D Webinar: Bridging the Gap Aligning Simulated and Real-World Pressure Data
DESCRIPTION:Date：Aug 20\, 2025\nTime： 2:00 PM EDT\n\nIn high-pressure applications like injection molding\, accurately predicting pressure loss across the entire system is critical for diagnosing and preventing molding issues. While many focus solely on maximum pressure values\, it’s the pressure trends and contours that offer the most insight into flow behavior\, imbalance\, and potential defects. \nThis webinar will explore how to interpret pressure distribution more effectively using Moldex3D\, helping you uncover root causes of issues such as short shots\, warpage\, or excessive clamp force requirements. Learn how to go beyond surface-level metrics and leverage full pressure analysis to make smarter design and process decisions—before you mold.\nWhat will attendees learn? \n\nHow to identify and eliminate common LSR/ silicone molding issues—such as air traps\, flashing\, short shots\, and uneven curing—through simulation.\nGain practical strategies to improve simulation accuracy through better material data\, boundary condition settings\, and interpretation of pressure contours and trends.
URL:https://plasticsbusinessmag.com/event/moldex3d-webinar-bridging-the-gap-aligning-simulated-and-real-world-pressure-data/
CATEGORIES:Virtual,Webinar
ATTACH;FMTTYPE=image/jpeg:https://plasticsbusinessmag.com/wp-content/uploads/Moldex-3D-webinar.jpg
END:VEVENT
END:VCALENDAR