BEGIN:VCALENDAR
VERSION:2.0
PRODID:-//Plastics Business - ECPv6.15.17.1//NONSGML v1.0//EN
CALSCALE:GREGORIAN
METHOD:PUBLISH
X-ORIGINAL-URL:https://plasticsbusinessmag.com
X-WR-CALDESC:Events for Plastics Business
REFRESH-INTERVAL;VALUE=DURATION:PT1H
X-Robots-Tag:noindex
X-PUBLISHED-TTL:PT1H
BEGIN:VTIMEZONE
TZID:America/Detroit
BEGIN:DAYLIGHT
TZOFFSETFROM:-0500
TZOFFSETTO:-0400
TZNAME:EDT
DTSTART:20240310T070000
END:DAYLIGHT
BEGIN:STANDARD
TZOFFSETFROM:-0400
TZOFFSETTO:-0500
TZNAME:EST
DTSTART:20241103T060000
END:STANDARD
BEGIN:DAYLIGHT
TZOFFSETFROM:-0500
TZOFFSETTO:-0400
TZNAME:EDT
DTSTART:20250309T070000
END:DAYLIGHT
BEGIN:STANDARD
TZOFFSETFROM:-0400
TZOFFSETTO:-0500
TZNAME:EST
DTSTART:20251102T060000
END:STANDARD
BEGIN:DAYLIGHT
TZOFFSETFROM:-0500
TZOFFSETTO:-0400
TZNAME:EDT
DTSTART:20260308T070000
END:DAYLIGHT
BEGIN:STANDARD
TZOFFSETFROM:-0400
TZOFFSETTO:-0500
TZNAME:EST
DTSTART:20261101T060000
END:STANDARD
END:VTIMEZONE
BEGIN:VEVENT
DTSTART;TZID=America/Detroit:20250730T140000
DTEND;TZID=America/Detroit:20250730T150000
DTSTAMP:20260419T102801
CREATED:20250610T173835Z
LAST-MODIFIED:20250610T173835Z
UID:14767-1753884000-1753887600@plasticsbusinessmag.com
SUMMARY:Chase the Knowledge Webinar: Polymer Testing (Part Three of the Chase Plastics 101 five-part series)
DESCRIPTION:Wed\, Jul 30\, 2025 2:00 PM – 3:00 PM EST\n\n\n\n\n\n\n\n\n\n\nJoin us for an informative webinar on Polymer Testing\, where you’ll get a clear understanding of what polymer test data really means. In this webinar\, we’ll walk through how to read a Technical Data Sheet (TDS)\, review key material properties\, and explain the most common tests used in polymer evaluation. Learn how to translate test results into practical insights for material selection and performance. This is Part 3 of the “Chase Plastics 101” series. Those who attend LIVE will receive a Certificate of Completion and a recording of the webinar. Can’t join us live? Register anyway\, and we will send you the on-demand recording to view at your convenience upon the conclusion of the webinar.
URL:https://plasticsbusinessmag.com/event/chase-the-knowledge-webinar-polymer-testing-part-three-of-the-chase-plastics-101-five-part-series/
CATEGORIES:Virtual,Webinar
ATTACH;FMTTYPE=image/webp:https://plasticsbusinessmag.com/wp-content/uploads/Chase-Plastics.webp
END:VEVENT
END:VCALENDAR