BEGIN:VCALENDAR
VERSION:2.0
PRODID:-//Plastics Business - ECPv6.15.17.1//NONSGML v1.0//EN
CALSCALE:GREGORIAN
METHOD:PUBLISH
X-ORIGINAL-URL:https://plasticsbusinessmag.com
X-WR-CALDESC:Events for Plastics Business
REFRESH-INTERVAL;VALUE=DURATION:PT1H
X-Robots-Tag:noindex
X-PUBLISHED-TTL:PT1H
BEGIN:VTIMEZONE
TZID:America/Chicago
BEGIN:DAYLIGHT
TZOFFSETFROM:-0600
TZOFFSETTO:-0500
TZNAME:CDT
DTSTART:20240310T080000
END:DAYLIGHT
BEGIN:STANDARD
TZOFFSETFROM:-0500
TZOFFSETTO:-0600
TZNAME:CST
DTSTART:20241103T070000
END:STANDARD
BEGIN:DAYLIGHT
TZOFFSETFROM:-0600
TZOFFSETTO:-0500
TZNAME:CDT
DTSTART:20250309T080000
END:DAYLIGHT
BEGIN:STANDARD
TZOFFSETFROM:-0500
TZOFFSETTO:-0600
TZNAME:CST
DTSTART:20251102T070000
END:STANDARD
BEGIN:DAYLIGHT
TZOFFSETFROM:-0600
TZOFFSETTO:-0500
TZNAME:CDT
DTSTART:20260308T080000
END:DAYLIGHT
BEGIN:STANDARD
TZOFFSETFROM:-0500
TZOFFSETTO:-0600
TZNAME:CST
DTSTART:20261101T070000
END:STANDARD
END:VTIMEZONE
BEGIN:VEVENT
DTSTART;TZID=America/Chicago:20250410T120000
DTEND;TZID=America/Chicago:20250410T130000
DTSTAMP:20260419T182044
CREATED:20250224T173845Z
LAST-MODIFIED:20250224T173845Z
UID:14325-1744286400-1744290000@plasticsbusinessmag.com
SUMMARY:Beaumont Moldflow Webinar Series: STAMP
DESCRIPTION:Thursday\, April 10th – Dave Corsi\nSTAMP – Shrinkage Test Adjusted Mechanical Properties \nBeaumont is holding this FREE webinar series showcasing tips\, tricks\, and some of the latest features Moldflow has to offer. Come listen in\, ask questions and share with your co-workers!  There are three remaining webinars each covering different Moldflow topics all starting at noon EST. \nSTAMP – Shrinkage Test Adjusted Mechanical Properties\nAn accurate simulation is only as accurate as the information provided. One of the most important inputs in plastic flow simulation is the material file itself. If a material file is missing critical tested data\, then the simulated results could be compromised. Simulation software generally uses a simplified thermo-viscous-elastic residual stress model due to the lack of good material data in anisotropic thermo-viscoelastic residual stress calculations and crystallization. This model has a constant solidification temperature with available material data obtained under laboratory conditions. It can generally provide acceptable results helping users optimize the processing conditions for mold and part design. However\, model calibration and correction can further improve the predicted accuracy. Moldflow uses measured shrinkage data to improve the shrinkage and warpage prediction for Midplane and Dual Domain models known as CRIMS “Corrected Residual In-Mold Stress”. STAMP or “Shrinkage Test Adjusted Mechanical Properties” is a shrinkage correction model that will use the measured shrinkage data\, obtained from rectangular plaque moldings\, to calibrate modulus\, Poisson’s Ratio\, and Coefficient of Thermal Expansion (CTE). This new model gives additional accuracy for 3D simulations and is only available for Autodesk Moldflow.
URL:https://plasticsbusinessmag.com/event/beaumont-moldflow-webinar-series-stamp/
CATEGORIES:Virtual,Webinar
ATTACH;FMTTYPE=image/webp:https://plasticsbusinessmag.com/wp-content/uploads/Beaumont-Moldflow-Webinar-Series.webp
ORGANIZER;CN="Beaumont":MAILTO:info@beaumontinc.com
END:VEVENT
END:VCALENDAR