BEGIN:VCALENDAR
VERSION:2.0
PRODID:-//Plastics Business - ECPv6.15.17.1//NONSGML v1.0//EN
CALSCALE:GREGORIAN
METHOD:PUBLISH
X-ORIGINAL-URL:https://plasticsbusinessmag.com
X-WR-CALDESC:Events for Plastics Business
REFRESH-INTERVAL;VALUE=DURATION:PT1H
X-Robots-Tag:noindex
X-PUBLISHED-TTL:PT1H
BEGIN:VTIMEZONE
TZID:America/New_York
BEGIN:DAYLIGHT
TZOFFSETFROM:-0500
TZOFFSETTO:-0400
TZNAME:EDT
DTSTART:20240310T070000
END:DAYLIGHT
BEGIN:STANDARD
TZOFFSETFROM:-0400
TZOFFSETTO:-0500
TZNAME:EST
DTSTART:20241103T060000
END:STANDARD
BEGIN:DAYLIGHT
TZOFFSETFROM:-0500
TZOFFSETTO:-0400
TZNAME:EDT
DTSTART:20250309T070000
END:DAYLIGHT
BEGIN:STANDARD
TZOFFSETFROM:-0400
TZOFFSETTO:-0500
TZNAME:EST
DTSTART:20251102T060000
END:STANDARD
BEGIN:DAYLIGHT
TZOFFSETFROM:-0500
TZOFFSETTO:-0400
TZNAME:EDT
DTSTART:20260308T070000
END:DAYLIGHT
BEGIN:STANDARD
TZOFFSETFROM:-0400
TZOFFSETTO:-0500
TZNAME:EST
DTSTART:20261101T060000
END:STANDARD
END:VTIMEZONE
BEGIN:VEVENT
DTSTART;TZID=America/New_York:20250401T140000
DTEND;TZID=America/New_York:20250401T150000
DTSTAMP:20260419T182654
CREATED:20250303T192458Z
LAST-MODIFIED:20250303T192458Z
UID:14405-1743516000-1743519600@plasticsbusinessmag.com
SUMMARY:Polymer Mechanical and Chemical Testing - A FREE Webinar from Chase Plastics
DESCRIPTION:Join us for an insightful webinar focused on the mechanical and chemical testing of polymers. This webinar will delve into the essential techniques used for characterizing polymer materials and conducting failure analysis. You’ll gain a deeper understanding of how these testing methods reveal the performance\, durability\, and underlying issues in polymers. Whether you’re looking to enhance your knowledge of polymer behavior or improve your failure analysis strategies\, this webinar is a must-attend! \nThose who attend LIVE will receive a Certificate of Completion and a recording of the webinar. Can’t join us live? Register anyway\, and we will send you the on-demand recording to view at your convenience upon the conclusion of the webinar. \nFREE Technical Webinar Library\nDiscover our extensive collection of technical webinars\, available for you to watch at your leisure…free of charge!  Simply visit:  https://chaseplastics.com/webinars/
URL:https://plasticsbusinessmag.com/event/polymer-mechanical-and-chemical-testing-a-free-webinar-from-chase-plastics/
CATEGORIES:Virtual,Webinar
ATTACH;FMTTYPE=image/jpeg:https://plasticsbusinessmag.com/wp-content/uploads/Chase-Plastics-Knowledge.jpeg
END:VEVENT
END:VCALENDAR