BEGIN:VCALENDAR
VERSION:2.0
PRODID:-//Plastics Business - ECPv6.15.17.1//NONSGML v1.0//EN
CALSCALE:GREGORIAN
METHOD:PUBLISH
X-WR-CALNAME:Plastics Business
X-ORIGINAL-URL:https://plasticsbusinessmag.com
X-WR-CALDESC:Events for Plastics Business
REFRESH-INTERVAL;VALUE=DURATION:PT1H
X-Robots-Tag:noindex
X-PUBLISHED-TTL:PT1H
BEGIN:VTIMEZONE
TZID:America/Chicago
BEGIN:DAYLIGHT
TZOFFSETFROM:-0600
TZOFFSETTO:-0500
TZNAME:CDT
DTSTART:20240310T080000
END:DAYLIGHT
BEGIN:STANDARD
TZOFFSETFROM:-0500
TZOFFSETTO:-0600
TZNAME:CST
DTSTART:20241103T070000
END:STANDARD
BEGIN:DAYLIGHT
TZOFFSETFROM:-0600
TZOFFSETTO:-0500
TZNAME:CDT
DTSTART:20250309T080000
END:DAYLIGHT
BEGIN:STANDARD
TZOFFSETFROM:-0500
TZOFFSETTO:-0600
TZNAME:CST
DTSTART:20251102T070000
END:STANDARD
BEGIN:DAYLIGHT
TZOFFSETFROM:-0600
TZOFFSETTO:-0500
TZNAME:CDT
DTSTART:20260308T080000
END:DAYLIGHT
BEGIN:STANDARD
TZOFFSETFROM:-0500
TZOFFSETTO:-0600
TZNAME:CST
DTSTART:20261101T070000
END:STANDARD
END:VTIMEZONE
BEGIN:VTIMEZONE
TZID:America/New_York
BEGIN:DAYLIGHT
TZOFFSETFROM:-0500
TZOFFSETTO:-0400
TZNAME:EDT
DTSTART:20240310T070000
END:DAYLIGHT
BEGIN:STANDARD
TZOFFSETFROM:-0400
TZOFFSETTO:-0500
TZNAME:EST
DTSTART:20241103T060000
END:STANDARD
BEGIN:DAYLIGHT
TZOFFSETFROM:-0500
TZOFFSETTO:-0400
TZNAME:EDT
DTSTART:20250309T070000
END:DAYLIGHT
BEGIN:STANDARD
TZOFFSETFROM:-0400
TZOFFSETTO:-0500
TZNAME:EST
DTSTART:20251102T060000
END:STANDARD
BEGIN:DAYLIGHT
TZOFFSETFROM:-0500
TZOFFSETTO:-0400
TZNAME:EDT
DTSTART:20260308T070000
END:DAYLIGHT
BEGIN:STANDARD
TZOFFSETFROM:-0400
TZOFFSETTO:-0500
TZNAME:EST
DTSTART:20261101T060000
END:STANDARD
END:VTIMEZONE
BEGIN:VEVENT
DTSTART;TZID=America/Chicago:20250319T110000
DTEND;TZID=America/Chicago:20250319T110000
DTSTAMP:20260419T220543
CREATED:20250213T183741Z
LAST-MODIFIED:20250225T203405Z
UID:14247-1742382000-1742382000@plasticsbusinessmag.com
SUMMARY:iD Zoom Chat: Spring Cleaning your Tool Room with Ethan Ravotti
DESCRIPTION:Ethan Ravotti\nJoin iD Additives on 3/19 @ 11AM CST for a Zoom Chat to talk all things cleaning for your Tool Room. Ethan is going to give tips and tricks on how to get your Tool Room clean\, organized\, and more productive! \nWhen: March 19th @ 11am CST\nWhere: Office\, home\, anywhere! This event is via Zoom \nClick below to RSVP and iD Additives will email you a link to join on Zoom! \n 
URL:https://plasticsbusinessmag.com/event/id-zoom-chat-spring-cleaning-your-tool-room-with-ethan-ravotti/
CATEGORIES:Virtual,Webinar
ATTACH;FMTTYPE=image/png:https://plasticsbusinessmag.com/wp-content/uploads/ZoomChats_logo_edited.png
ORGANIZER;CN="iD Additives%2C Inc":MAILTO:info@idadditives.com
END:VEVENT
BEGIN:VEVENT
DTSTART;TZID=America/New_York:20250319T110000
DTEND;TZID=America/New_York:20250319T110000
DTSTAMP:20260419T220543
CREATED:20250312T210540Z
LAST-MODIFIED:20250312T210540Z
UID:14469-1742382000-1742382000@plasticsbusinessmag.com
SUMMARY:DELMIAWorks Webinar: Mastering Plastics Manufacturing
DESCRIPTION:Wednesday\, March 19th\, 11:00 AM ET\n\n\nAs an engineer in the plastics manufacturing industry\, you know running your business with software not designed specifically to address the unique needs of plastics processing can be a very frustrating experience. There is a better way. \nJoin us on Wednesday\, March 19th at 11:00 AM ET to learn how the most successful molders\, extruders\, compounders\, thermoformers\, and other plastics processors are overcoming the challenges of plastics manufacturing\, including: \n\nManaging family tools\, tracking parison/flash and regrind\, recipes/blends\, and cavitation\nInventory management\, including shelf-life\, FIFO/LIFO\, and raw materials\nKnowing exactly what is running\, where it is running\, and for precisely how long\nScheduling tool and die-based\, multi-level BOMs to reflect critical interdependencies\n\nLearn how plastics manufacturers are leveraging DELMIAWorks to streamline operations\, control costs\, boost profitability\, and stay competitive in a challenging market.
URL:https://plasticsbusinessmag.com/event/delmiaworks-webinar-mastering-plastics-manufacturing/
CATEGORIES:Virtual,Webinar
ATTACH;FMTTYPE=image/webp:https://plasticsbusinessmag.com/wp-content/uploads/plastics-webinar-Plant-from-Window.JPG.webp
END:VEVENT
END:VCALENDAR