BEGIN:VCALENDAR
VERSION:2.0
PRODID:-//Plastics Business - ECPv6.15.17.1//NONSGML v1.0//EN
CALSCALE:GREGORIAN
METHOD:PUBLISH
X-WR-CALNAME:Plastics Business
X-ORIGINAL-URL:https://plasticsbusinessmag.com
X-WR-CALDESC:Events for Plastics Business
REFRESH-INTERVAL;VALUE=DURATION:PT1H
X-Robots-Tag:noindex
X-PUBLISHED-TTL:PT1H
BEGIN:VTIMEZONE
TZID:America/Chicago
BEGIN:DAYLIGHT
TZOFFSETFROM:-0600
TZOFFSETTO:-0500
TZNAME:CDT
DTSTART:20230312T080000
END:DAYLIGHT
BEGIN:STANDARD
TZOFFSETFROM:-0500
TZOFFSETTO:-0600
TZNAME:CST
DTSTART:20231105T070000
END:STANDARD
BEGIN:DAYLIGHT
TZOFFSETFROM:-0600
TZOFFSETTO:-0500
TZNAME:CDT
DTSTART:20240310T080000
END:DAYLIGHT
BEGIN:STANDARD
TZOFFSETFROM:-0500
TZOFFSETTO:-0600
TZNAME:CST
DTSTART:20241103T070000
END:STANDARD
BEGIN:DAYLIGHT
TZOFFSETFROM:-0600
TZOFFSETTO:-0500
TZNAME:CDT
DTSTART:20250309T080000
END:DAYLIGHT
BEGIN:STANDARD
TZOFFSETFROM:-0500
TZOFFSETTO:-0600
TZNAME:CST
DTSTART:20251102T070000
END:STANDARD
END:VTIMEZONE
BEGIN:VEVENT
DTSTART;VALUE=DATE:20241008
DTEND;VALUE=DATE:20241012
DTSTAMP:20260420T082823
CREATED:20240925T163315Z
LAST-MODIFIED:20240925T163315Z
UID:13726-1728345600-1728691199@plasticsbusinessmag.com
SUMMARY:Virtual Seminar - Paulson ProMolder Troubleshooting
DESCRIPTION:Paulson ProMolder Troubleshooting\nGood to know: We offer a few select seminars online in a virtual classroom format. Check the schedule for details.\nThis is a 4-day virtual\, live-streaming class\, complete with Hands-on SimTech Injection Molding Simulation Lab Lessons\nPaulson’s brand new virtual seminar is designed to train production personnel to recognize and analyze injection molded part problems and defects from a scientific molding point of view. \nPaulson’s instructors will teach injection molders\, mold designers\, and part designers how to identify and correct 11 of the most common and costly molded part problems: Voids\, Sink Marks\, Short Shots\, Flash\, Weld (Knit) Lines\, Splay (Silver Streaks)\, Jetting\, Burn Marks\, Warp\, Cracks and Part Breakage\, and Controlling Molded Part Dimensions. \nPart defects are described and analyzed to show how each develops\, including an explanation for the cause and affect method of problem analysis – a very valuable technique for analyzing and solving all types of production and management problems. \nInteractive Lab Lessons Included \nIn addition\, each participant will be engaged to solve specific part problems in a hands-on\, interactive lab lesson using Paulson’s powerful injection molding machine simulation tool SimTech.  This virtual\, four-day seminar will give you the critical skills necessary to solve and troubleshoot any plastic part problem. \nWhat can I expect for the virtual class?\n\nOnline classroom experience with high quality technical content\nWeb-based interactive training using Paulson’s virtual injection molding machine simulator SimTech™ (Learn more about SimTech here.)\nFull day\, week-long\, intensive curriculum with assignments\nElectronic study guides\nOnline testing for certification\nAccess to the instructor\nOpen class discussions with ability to interact with fellow participants\n\nWhat do I need to attend the virtual class?\n\nJust a computer with internet access.\n\nSpecial note: No camera? No audio? No problem. You can still join in. Call in with your phone and use your computer to share the instructor’s screen.  \nCertification: Paulson Training Programs has an excellent reputation for developing highly qualified injection molding personnel who are sought after by the industry. To maintain this quality we test each student at the end of the course with a written exam. Grades 90% and above will earn a Gold Certificate of Achievement; 80% – 89% a Silver Certificate of Achievement; those achieving a 70%-79% will earn a Blue Certificate of Achievement\, and all others earn a Certificate of Attendance.
URL:https://plasticsbusinessmag.com/event/virtual-seminar-paulson-promolder-troubleshooting/
LOCATION:Paulson Plastics Academy a Certus Company
CATEGORIES:Virtual
ATTACH;FMTTYPE=image/png:https://plasticsbusinessmag.com/wp-content/uploads/Paulson-Certus-Logo-1.png
END:VEVENT
END:VCALENDAR