BEGIN:VCALENDAR
VERSION:2.0
PRODID:-//Plastics Business - ECPv6.15.17.1//NONSGML v1.0//EN
CALSCALE:GREGORIAN
METHOD:PUBLISH
X-ORIGINAL-URL:https://plasticsbusinessmag.com
X-WR-CALDESC:Events for Plastics Business
REFRESH-INTERVAL;VALUE=DURATION:PT1H
X-Robots-Tag:noindex
X-PUBLISHED-TTL:PT1H
BEGIN:VTIMEZONE
TZID:America/Chicago
BEGIN:DAYLIGHT
TZOFFSETFROM:-0600
TZOFFSETTO:-0500
TZNAME:CDT
DTSTART:20220313T080000
END:DAYLIGHT
BEGIN:STANDARD
TZOFFSETFROM:-0500
TZOFFSETTO:-0600
TZNAME:CST
DTSTART:20221106T070000
END:STANDARD
BEGIN:DAYLIGHT
TZOFFSETFROM:-0600
TZOFFSETTO:-0500
TZNAME:CDT
DTSTART:20230312T080000
END:DAYLIGHT
BEGIN:STANDARD
TZOFFSETFROM:-0500
TZOFFSETTO:-0600
TZNAME:CST
DTSTART:20231105T070000
END:STANDARD
BEGIN:DAYLIGHT
TZOFFSETFROM:-0600
TZOFFSETTO:-0500
TZNAME:CDT
DTSTART:20240310T080000
END:DAYLIGHT
BEGIN:STANDARD
TZOFFSETFROM:-0500
TZOFFSETTO:-0600
TZNAME:CST
DTSTART:20241103T070000
END:STANDARD
END:VTIMEZONE
BEGIN:VEVENT
DTSTART;TZID=America/Chicago:20230615T100000
DTEND;TZID=America/Chicago:20230615T110000
DTSTAMP:20260423T033139
CREATED:20230522T182614Z
LAST-MODIFIED:20230522T182721Z
UID:11819-1686823200-1686826800@plasticsbusinessmag.com
SUMMARY:iD ZoomChats: How to Effectively and Efficiently Purge with Dave Denzel
DESCRIPTION:In the Plastics Industry since 1984 and even having experience teaching high school students in the field of injection molding technology\, Dave Denzel can offer great tips and technical support for your purging process. \nIf you deal with issues while purging out color or materials changes\, sign up and listen to Dave Denzel’s tips and tricks. Whether you run engineered-grade materials\, clear parts or you’re just looking to reduce scrap\, Dave has solutions for you. \nYou should attend if you want to learn the best purging solution to: \n\nPurge the screw and barrel using Purging Compounds.\nDo Intermittent Purging before\, during and after production runs.\nPurge the Hot Runner/Manifold Systems\, Extrusion Dies and Blow Molding Heads.\nShutdown and Start-up for short-term & long-term shutdowns.\n\nSign up for the Zoom Chat at https://www.surveymonkey.com/r/9RB6FDW \nCan’t watch it live? No problem! Click below to sign up to receive an email when the presentation is up on YouTube!  \nhttps://www.surveymonkey.com/r/BXRKMF5
URL:https://plasticsbusinessmag.com/event/id-zoomchats-how-to-effectively-and-efficiently-purge-with-dave-denzel/
CATEGORIES:Virtual
ATTACH;FMTTYPE=image/jpeg:https://plasticsbusinessmag.com/wp-content/uploads/dave-denzel-1.jpg
END:VEVENT
END:VCALENDAR