BEGIN:VCALENDAR
VERSION:2.0
PRODID:-//Plastics Business - ECPv6.15.17.1//NONSGML v1.0//EN
CALSCALE:GREGORIAN
METHOD:PUBLISH
X-WR-CALNAME:Plastics Business
X-ORIGINAL-URL:https://plasticsbusinessmag.com
X-WR-CALDESC:Events for Plastics Business
REFRESH-INTERVAL;VALUE=DURATION:PT1H
X-Robots-Tag:noindex
X-PUBLISHED-TTL:PT1H
BEGIN:VTIMEZONE
TZID:America/Halifax
BEGIN:DAYLIGHT
TZOFFSETFROM:-0400
TZOFFSETTO:-0300
TZNAME:ADT
DTSTART:20240310T060000
END:DAYLIGHT
BEGIN:STANDARD
TZOFFSETFROM:-0300
TZOFFSETTO:-0400
TZNAME:AST
DTSTART:20241103T050000
END:STANDARD
BEGIN:DAYLIGHT
TZOFFSETFROM:-0400
TZOFFSETTO:-0300
TZNAME:ADT
DTSTART:20250309T060000
END:DAYLIGHT
BEGIN:STANDARD
TZOFFSETFROM:-0300
TZOFFSETTO:-0400
TZNAME:AST
DTSTART:20251102T050000
END:STANDARD
BEGIN:DAYLIGHT
TZOFFSETFROM:-0400
TZOFFSETTO:-0300
TZNAME:ADT
DTSTART:20260308T060000
END:DAYLIGHT
BEGIN:STANDARD
TZOFFSETFROM:-0300
TZOFFSETTO:-0400
TZNAME:AST
DTSTART:20261101T050000
END:STANDARD
END:VTIMEZONE
BEGIN:VTIMEZONE
TZID:America/Chicago
BEGIN:DAYLIGHT
TZOFFSETFROM:-0600
TZOFFSETTO:-0500
TZNAME:CDT
DTSTART:20240310T080000
END:DAYLIGHT
BEGIN:STANDARD
TZOFFSETFROM:-0500
TZOFFSETTO:-0600
TZNAME:CST
DTSTART:20241103T070000
END:STANDARD
BEGIN:DAYLIGHT
TZOFFSETFROM:-0600
TZOFFSETTO:-0500
TZNAME:CDT
DTSTART:20250309T080000
END:DAYLIGHT
BEGIN:STANDARD
TZOFFSETFROM:-0500
TZOFFSETTO:-0600
TZNAME:CST
DTSTART:20251102T070000
END:STANDARD
BEGIN:DAYLIGHT
TZOFFSETFROM:-0600
TZOFFSETTO:-0500
TZNAME:CDT
DTSTART:20260308T080000
END:DAYLIGHT
BEGIN:STANDARD
TZOFFSETFROM:-0500
TZOFFSETTO:-0600
TZNAME:CST
DTSTART:20261101T070000
END:STANDARD
END:VTIMEZONE
BEGIN:VEVENT
DTSTART;TZID=America/Halifax:20250520T130000
DTEND;TZID=America/Halifax:20250520T140000
DTSTAMP:20260419T140919
CREATED:20250505T194242Z
LAST-MODIFIED:20250505T194242Z
UID:14623-1747746000-1747749600@plasticsbusinessmag.com
SUMMARY:Smart Innovation\, Bigger Returns: Cutting Hidden Costs in Injection Molding
DESCRIPTION:May 20\, 2025 1:00 PM–2:00 PM EDT \nFree Webinar Presented by Bob Reese\, RJG \n\nThis presentation explores how molders can leverage advanced technology to uncover the hidden costs in the injection molding process. Attendees will learn how strategic investments in technology not only streamline operations but also generate high returns through increased efficiency\, reduced waste\, and improved product consistency. We will walk through real-life ROI examples and utilize a specialized calculator to demonstrate the tangible benefits these innovations can bring. Discover the significant savings potential of adopting these solutions to transform your business and maintain competitiveness in an evolving market.
URL:https://plasticsbusinessmag.com/event/smart-innovation-bigger-returns-cutting-hidden-costs-in-injection-molding/
CATEGORIES:Virtual,Webinar
ATTACH;FMTTYPE=image/webp:https://plasticsbusinessmag.com/wp-content/uploads/RJG-Webinar-May-20-webp.webp
END:VEVENT
BEGIN:VEVENT
DTSTART;TZID=America/Chicago:20250528T130000
DTEND;TZID=America/Chicago:20250528T140000
DTSTAMP:20260419T140919
CREATED:20250414T204213Z
LAST-MODIFIED:20250414T204213Z
UID:14554-1748437200-1748440800@plasticsbusinessmag.com
SUMMARY:FREE Webinar from Chase Plastics - Polymer Basics
DESCRIPTION:May 28 at 1 p.m. – 2 p.m. (CDT)\n\nGain a clear understanding of polymers in this focused webinar covering their structure\, types\, and key physical and chemical properties. We’ll explore how polymers are classified\, what makes them unique\, and how their characteristics impact performance and applications across industries. This is Part One of the Plastics101 series.\n\nThose who attend LIVE will receive a Certificate of Completion and a recording of the webinar. Can’t join us live? Register anyway\, and we will send you the on-demand recording to view at your convenience upon the conclusion of the webinar.
URL:https://plasticsbusinessmag.com/event/free-webinar-from-chase-plastics-polymer-basics/
CATEGORIES:Virtual,Webinar
ATTACH;FMTTYPE=image/webp:https://plasticsbusinessmag.com/wp-content/uploads/Chase-Plastics.webp
END:VEVENT
END:VCALENDAR