BEGIN:VCALENDAR
VERSION:2.0
PRODID:-//Plastics Business - ECPv6.15.17.1//NONSGML v1.0//EN
CALSCALE:GREGORIAN
METHOD:PUBLISH
X-WR-CALNAME:Plastics Business
X-ORIGINAL-URL:https://plasticsbusinessmag.com
X-WR-CALDESC:Events for Plastics Business
REFRESH-INTERVAL;VALUE=DURATION:PT1H
X-Robots-Tag:noindex
X-PUBLISHED-TTL:PT1H
BEGIN:VTIMEZONE
TZID:America/Chicago
BEGIN:DAYLIGHT
TZOFFSETFROM:-0600
TZOFFSETTO:-0500
TZNAME:CDT
DTSTART:20240310T080000
END:DAYLIGHT
BEGIN:STANDARD
TZOFFSETFROM:-0500
TZOFFSETTO:-0600
TZNAME:CST
DTSTART:20241103T070000
END:STANDARD
BEGIN:DAYLIGHT
TZOFFSETFROM:-0600
TZOFFSETTO:-0500
TZNAME:CDT
DTSTART:20250309T080000
END:DAYLIGHT
BEGIN:STANDARD
TZOFFSETFROM:-0500
TZOFFSETTO:-0600
TZNAME:CST
DTSTART:20251102T070000
END:STANDARD
BEGIN:DAYLIGHT
TZOFFSETFROM:-0600
TZOFFSETTO:-0500
TZNAME:CDT
DTSTART:20260308T080000
END:DAYLIGHT
BEGIN:STANDARD
TZOFFSETFROM:-0500
TZOFFSETTO:-0600
TZNAME:CST
DTSTART:20261101T070000
END:STANDARD
END:VTIMEZONE
BEGIN:VTIMEZONE
TZID:America/New_York
BEGIN:DAYLIGHT
TZOFFSETFROM:-0500
TZOFFSETTO:-0400
TZNAME:EDT
DTSTART:20240310T070000
END:DAYLIGHT
BEGIN:STANDARD
TZOFFSETFROM:-0400
TZOFFSETTO:-0500
TZNAME:EST
DTSTART:20241103T060000
END:STANDARD
BEGIN:DAYLIGHT
TZOFFSETFROM:-0500
TZOFFSETTO:-0400
TZNAME:EDT
DTSTART:20250309T070000
END:DAYLIGHT
BEGIN:STANDARD
TZOFFSETFROM:-0400
TZOFFSETTO:-0500
TZNAME:EST
DTSTART:20251102T060000
END:STANDARD
BEGIN:DAYLIGHT
TZOFFSETFROM:-0500
TZOFFSETTO:-0400
TZNAME:EDT
DTSTART:20260308T070000
END:DAYLIGHT
BEGIN:STANDARD
TZOFFSETFROM:-0400
TZOFFSETTO:-0500
TZNAME:EST
DTSTART:20261101T060000
END:STANDARD
END:VTIMEZONE
BEGIN:VEVENT
DTSTART;TZID=America/Chicago:20250204T080000
DTEND;TZID=America/Chicago:20250207T163000
DTSTAMP:20260419T220429
CREATED:20241213T202938Z
LAST-MODIFIED:20241213T202938Z
UID:14053-1738656000-1738945800@plasticsbusinessmag.com
SUMMARY:New Session ProMolder Troubleshooting by Paulson A Certus Company
DESCRIPTION:New session available: February 4-7\, 2025\nIn this instructor-led seminar\, your injection molding professionals will learn to identify and correct 11 of the most expensive molded part problems. They’ll gain the ability to describe and analyze these common issues develop and use that critical knowledge to become troubleshooting whizzes. \nThis fully online course gives your team actionable troubleshooting tactics and the know-how to produce their best parts yet. ProMolder Troubleshooting: \n\nCovers part defect analysis and resolution.\nIs virtual\, so your team can learn anywhere with a high-speed internet connection.\nGives your team 4 days with one of our expert instructors\, during which they can ask questions and get a personalized experience.\nOffers testing and certifications so your team can prove they have the skills to make an impact on operations.\nUses our injection molding simulator for virtual practice of new skills.\n\nJoin our instructors – virtually – February 4-7\, 2025\, for an engaging 4 days of troubleshooting training. \nCall 877-978-7246\nEmail sales@tpctraining.com\nWebsite paulsonplasticsacademy.com\n \nYou’ll be directed to check-out via TPC Training\, fellow Certus technical skills training provider.
URL:https://plasticsbusinessmag.com/event/new-session-promolder-troubleshooting-by-paulson-a-certus-company/
CATEGORIES:Training,Virtual
ATTACH;FMTTYPE=image/png:https://plasticsbusinessmag.com/wp-content/uploads/Paulson-Certus-Logo-1.png
ORGANIZER;CN="Paulson A Certus Company":MAILTO:sales@tpctraining.com
END:VEVENT
BEGIN:VEVENT
DTSTART;TZID=America/Chicago:20250210T093000
DTEND;TZID=America/Chicago:20250214T170000
DTSTAMP:20260419T220429
CREATED:20241111T155211Z
LAST-MODIFIED:20241111T155933Z
UID:13877-1739179800-1739552400@plasticsbusinessmag.com
SUMMARY:ProMolder 2: The next step after ProMolder 1
DESCRIPTION:ProMolder 2 is primarily an in-person seminar with our expert instructors\, but we occasionally offer this popular training course virtually so your team can learn from anywhere with a high-speed internet connection. After completing ProMolder 1 and earning a Paulson Training Certificate\, team members are ready for ProMolder 2\, a 5-day intensive seminar.   \nLearn about critical injection molding topics such as:   \n\nPlastic properties and behaviors that impact part quality \nScience behind successful molding \nAnalysis of part defects\, causes\, and solutions \nPractice with our injection molding simulator  \nNew math for molders \nMore topics included\n\nUpcoming dates:  \nFebruary 10-14 | Online\nMarch 31-April 4 | Charlotte\, NC\nMay 19-23 | Elk Grove Village\, IL  \nBook via the TPC Training website
URL:https://plasticsbusinessmag.com/event/promolder-2-the-next-step-after-promolder-1/
CATEGORIES:Virtual,Webinar
ATTACH;FMTTYPE=image/png:https://plasticsbusinessmag.com/wp-content/uploads/Paulson-Certus-Logo-1.png
ORGANIZER;CN="Paulson A Certus Company":MAILTO:sales@tpctraining.com
END:VEVENT
BEGIN:VEVENT
DTSTART;TZID=America/New_York:20250227T120000
DTEND;TZID=America/New_York:20250227T130000
DTSTAMP:20260419T220429
CREATED:20250224T173121Z
LAST-MODIFIED:20250224T173604Z
UID:14319-1740657600-1740661200@plasticsbusinessmag.com
SUMMARY:Beaumont Moldflow Webinar Series: Thermal Pins
DESCRIPTION:Thursday\, February 27th\, Noon (EST) – Mike Hall\nThermal Pins – How to Model and Why it Matters \nBeaumont is holding this FREE webinar series showcasing tips\, tricks\, and some of the latest features Moldflow has to offer. Come listen in\, ask questions and share with your co-workers!  There are three remaining webinars each covering different Moldflow topics all starting at noon EST. \nThermal Pins – How to Model and Why it Matters\nThermal Pins are used in place of or in addition to baffles and bubblers to improve heat extraction from hot spot regions in injection molded parts. The evolution of injection molding flow simulation allows us to evaluate cooling lines within a mold before cutting steel\, but can thermal pins be accurately modeled within the simulation? Proper modeling techniques are essential to differentiate between using a bubbler\, baffle\, or thermal pin in Moldflow to minimize hot spots across the cavity and avoid costly tool revisions.
URL:https://plasticsbusinessmag.com/event/beaumont-moldflow-webinar-series-thermal-pins/
CATEGORIES:Virtual,Webinar
ATTACH;FMTTYPE=image/webp:https://plasticsbusinessmag.com/wp-content/uploads/Beaumont-Moldflow-Webinar-Series.webp
ORGANIZER;CN="Beaumont":MAILTO:info@beaumontinc.com
END:VEVENT
END:VCALENDAR