BEGIN:VCALENDAR
VERSION:2.0
PRODID:-//Plastics Business - ECPv6.15.17.1//NONSGML v1.0//EN
CALSCALE:GREGORIAN
METHOD:PUBLISH
X-ORIGINAL-URL:https://plasticsbusinessmag.com
X-WR-CALDESC:Events for Plastics Business
REFRESH-INTERVAL;VALUE=DURATION:PT1H
X-Robots-Tag:noindex
X-PUBLISHED-TTL:PT1H
BEGIN:VTIMEZONE
TZID:America/Chicago
BEGIN:DAYLIGHT
TZOFFSETFROM:-0600
TZOFFSETTO:-0500
TZNAME:CDT
DTSTART:20220313T080000
END:DAYLIGHT
BEGIN:STANDARD
TZOFFSETFROM:-0500
TZOFFSETTO:-0600
TZNAME:CST
DTSTART:20221106T070000
END:STANDARD
BEGIN:DAYLIGHT
TZOFFSETFROM:-0600
TZOFFSETTO:-0500
TZNAME:CDT
DTSTART:20230312T080000
END:DAYLIGHT
BEGIN:STANDARD
TZOFFSETFROM:-0500
TZOFFSETTO:-0600
TZNAME:CST
DTSTART:20231105T070000
END:STANDARD
BEGIN:DAYLIGHT
TZOFFSETFROM:-0600
TZOFFSETTO:-0500
TZNAME:CDT
DTSTART:20240310T080000
END:DAYLIGHT
BEGIN:STANDARD
TZOFFSETFROM:-0500
TZOFFSETTO:-0600
TZNAME:CST
DTSTART:20241103T070000
END:STANDARD
END:VTIMEZONE
BEGIN:VEVENT
DTSTART;VALUE=DATE:20230822
DTEND;VALUE=DATE:20230824
DTSTAMP:20260422T031218
CREATED:20230817T142621Z
LAST-MODIFIED:20230817T142621Z
UID:12076-1692662400-1692835199@plasticsbusinessmag.com
SUMMARY:Beaumont & the American Injection Molding Institute Mold Component Welding\, Polishing\, & Repair
DESCRIPTION:Ashland\, Ohio \nThe Mold Component Welding\, Polishing & Repair course will show your mold maintenance technicians how to repair tooling quickly and accurately instead of replacing it or sending it out for repair\, saving your company thousands of dollars while enhancing your technicians’ skill. Attendees will learn how to rework typical tooling issues such as worn edges\, dings\, scuffs\, and scratches with typical tooling found in most molds through actual bench work.
URL:https://plasticsbusinessmag.com/event/beaumont-the-american-injection-molding-institute-mold-component-welding-polishing-repair/
CATEGORIES:Training
ATTACH;FMTTYPE=image/jpeg:https://plasticsbusinessmag.com/wp-content/uploads/Plastics-Business-Featured-Image-e1757030453900.jpg
END:VEVENT
END:VCALENDAR