BEGIN:VCALENDAR
VERSION:2.0
PRODID:-//Plastics Business - ECPv6.15.17.1//NONSGML v1.0//EN
CALSCALE:GREGORIAN
METHOD:PUBLISH
X-ORIGINAL-URL:https://plasticsbusinessmag.com
X-WR-CALDESC:Events for Plastics Business
REFRESH-INTERVAL;VALUE=DURATION:PT1H
X-Robots-Tag:noindex
X-PUBLISHED-TTL:PT1H
BEGIN:VTIMEZONE
TZID:America/Chicago
BEGIN:DAYLIGHT
TZOFFSETFROM:-0600
TZOFFSETTO:-0500
TZNAME:CDT
DTSTART:20220313T080000
END:DAYLIGHT
BEGIN:STANDARD
TZOFFSETFROM:-0500
TZOFFSETTO:-0600
TZNAME:CST
DTSTART:20221106T070000
END:STANDARD
BEGIN:DAYLIGHT
TZOFFSETFROM:-0600
TZOFFSETTO:-0500
TZNAME:CDT
DTSTART:20230312T080000
END:DAYLIGHT
BEGIN:STANDARD
TZOFFSETFROM:-0500
TZOFFSETTO:-0600
TZNAME:CST
DTSTART:20231105T070000
END:STANDARD
BEGIN:DAYLIGHT
TZOFFSETFROM:-0600
TZOFFSETTO:-0500
TZNAME:CDT
DTSTART:20240310T080000
END:DAYLIGHT
BEGIN:STANDARD
TZOFFSETFROM:-0500
TZOFFSETTO:-0600
TZNAME:CST
DTSTART:20241103T070000
END:STANDARD
END:VTIMEZONE
BEGIN:VEVENT
DTSTART;VALUE=DATE:20230417
DTEND;VALUE=DATE:20230429
DTSTAMP:20260422T104834
CREATED:20230131T202740Z
LAST-MODIFIED:20230131T202740Z
UID:11466-1681689600-1682726399@plasticsbusinessmag.com
SUMMARY:RJG Academy Master Molder® I
DESCRIPTION:This is the industry’s premier standard demand for training! The Master Molder® I qualification is designed for the Process Technician\, Engineer\, or Manager who needs to understand and demonstrate injection molding skills at the machine. Participants will be able to establish the development of a DECOUPLED MOLDING® II process. Anyone who is responsible for implementing a processing strategy in their plant\, or who is held accountable for quality issues\, are prime candidates for this training. \nThere is a reason that companies in the injection molding industry actively seek out Master Molder qualified molders to join their team. Participants learn to apply methods\, strategies\, and techniques of injection molding from the plastic’s point of view\, all taught in a real-world production floor environment. This hands-on\, in-depth training enables participants to leave with solid skills that can be applied immediately in their facility.
URL:https://plasticsbusinessmag.com/event/rjg-academy-master-molder-i-8/
CATEGORIES:Training
ATTACH;FMTTYPE=image/jpeg:https://plasticsbusinessmag.com/wp-content/uploads/Plastics-Business-Featured-Image-e1757030453900.jpg
END:VEVENT
BEGIN:VEVENT
DTSTART;VALUE=DATE:20230424
DTEND;VALUE=DATE:20230506
DTSTAMP:20260422T104834
CREATED:20230131T200339Z
LAST-MODIFIED:20230131T200339Z
UID:11458-1682294400-1683331199@plasticsbusinessmag.com
SUMMARY:RJG Academy Master Molder® I
DESCRIPTION:This is the industry’s premier standard demand for training! The Master Molder® I qualification is designed for the Process Technician\, Engineer\, or Manager who needs to understand and demonstrate injection molding skills at the machine. Participants will be able to establish the development of a DECOUPLED MOLDING® II process. Anyone who is responsible for implementing a processing strategy in their plant\, or who is held accountable for quality issues\, are prime candidates for this training. \nThere is a reason that companies in the injection molding industry actively seek out Master Molder qualified molders to join their team. Participants learn to apply methods\, strategies\, and techniques of injection molding from the plastic’s point of view\, all taught in a real-world production floor environment. This hands-on\, in-depth training enables participants to leave with solid skills that can be applied immediately in their facility.
URL:https://plasticsbusinessmag.com/event/rjg-academy-master-molder-i-4/
CATEGORIES:Training
ATTACH;FMTTYPE=image/jpeg:https://plasticsbusinessmag.com/wp-content/uploads/Plastics-Business-Featured-Image-e1757030453900.jpg
END:VEVENT
BEGIN:VEVENT
DTSTART;VALUE=DATE:20230425
DTEND;VALUE=DATE:20230428
DTSTAMP:20260422T104834
CREATED:20230131T205345Z
LAST-MODIFIED:20230131T205345Z
UID:11482-1682380800-1682639999@plasticsbusinessmag.com
SUMMARY:RJG Academy Part Design for Injection Molding
DESCRIPTION:RJG’s Part Design for Injection Molding course provides molders\, tool makers\, and design engineers with a common language and the universal knowledge required to successfully design and produce plastic injection molded components. Improving general knowledge of the steps required for part design reduces the risk of less than optimum tooling conditions\, therefore minimizing exposure to injection molding non-conformities that do not meet the quality requirements of the customer. \nClass topics address good manufacturing processes (GMP) for: plastic part design\, fundamental material characteristics\, basic tooling concepts\, necessary processing characteristics\, molding non-conformities\, and tolerances. The course also discusses how part design and material selection affect the cost of tooling and piece price. During training\, we utilize industry examples as reference\, then dive into evaluating and improving designs. Attendees will work in groups to examine parts to identify where non-conformities will occur and methods to improve those risks. \nI never expected how immediately Part Design for Injection Molding would prove beneficial to us. During class\, the instructor presented us with a test method that proved a great addition to our existing methods. Within days of returning to our office\, we were able to get the data we needed using the new test method. To top it off\, the class was interactive\, engaging\, and fun. Everyone who attended got something out of it regardless of their experience level.
URL:https://plasticsbusinessmag.com/event/rjg-academy-part-design-for-injection-molding/
CATEGORIES:Training
ATTACH;FMTTYPE=image/jpeg:https://plasticsbusinessmag.com/wp-content/uploads/Plastics-Business-Featured-Image-e1757030453900.jpg
END:VEVENT
END:VCALENDAR