BEGIN:VCALENDAR
VERSION:2.0
PRODID:-//Plastics Business - ECPv6.15.17.1//NONSGML v1.0//EN
CALSCALE:GREGORIAN
METHOD:PUBLISH
X-WR-CALNAME:Plastics Business
X-ORIGINAL-URL:https://plasticsbusinessmag.com
X-WR-CALDESC:Events for Plastics Business
REFRESH-INTERVAL;VALUE=DURATION:PT1H
X-Robots-Tag:noindex
X-PUBLISHED-TTL:PT1H
BEGIN:VTIMEZONE
TZID:America/Chicago
BEGIN:DAYLIGHT
TZOFFSETFROM:-0600
TZOFFSETTO:-0500
TZNAME:CDT
DTSTART:20250309T080000
END:DAYLIGHT
BEGIN:STANDARD
TZOFFSETFROM:-0500
TZOFFSETTO:-0600
TZNAME:CST
DTSTART:20251102T070000
END:STANDARD
BEGIN:DAYLIGHT
TZOFFSETFROM:-0600
TZOFFSETTO:-0500
TZNAME:CDT
DTSTART:20260308T080000
END:DAYLIGHT
BEGIN:STANDARD
TZOFFSETFROM:-0500
TZOFFSETTO:-0600
TZNAME:CST
DTSTART:20261101T070000
END:STANDARD
BEGIN:DAYLIGHT
TZOFFSETFROM:-0600
TZOFFSETTO:-0500
TZNAME:CDT
DTSTART:20270314T080000
END:DAYLIGHT
BEGIN:STANDARD
TZOFFSETFROM:-0500
TZOFFSETTO:-0600
TZNAME:CST
DTSTART:20271107T070000
END:STANDARD
END:VTIMEZONE
BEGIN:VEVENT
DTSTART;TZID=America/Chicago:20260603T140000
DTEND;TZID=America/Chicago:20260603T150000
DTSTAMP:20260419T113252
CREATED:20260323T171352Z
LAST-MODIFIED:20260323T171352Z
UID:16624-1780495200-1780498800@plasticsbusinessmag.com
SUMMARY:Chase the Knowledge® Webinar: Injection Molding Troubleshooting - Solving Common Part Defects
DESCRIPTION:Injection molded parts can develop defects that affect quality and production efficiency. In this webinar\, Chase will review several common molding defects\, explore their potential causes\, and discuss practical troubleshooting techniques to help identify solutions and improve overall part quality. \nThose who attend LIVE will receive a Certificate of Completion and a recording of the webinar. Can’t join us live? Register anyway\, and Chase will send you the on-demand recording to view at your convenience after the webinar. \n 
URL:https://plasticsbusinessmag.com/event/chase-the-knowledge-webinar-injection-molding-troubleshooting-solving-common-part-defects/
CATEGORIES:Training,Webinar
ATTACH;FMTTYPE=image/jpeg:https://plasticsbusinessmag.com/wp-content/uploads/Plastics-Business-Featured-Image-e1757030453900.jpg
END:VEVENT
END:VCALENDAR