BEGIN:VCALENDAR
VERSION:2.0
PRODID:-//Plastics Business - ECPv6.15.17.1//NONSGML v1.0//EN
CALSCALE:GREGORIAN
METHOD:PUBLISH
X-WR-CALNAME:Plastics Business
X-ORIGINAL-URL:https://plasticsbusinessmag.com
X-WR-CALDESC:Events for Plastics Business
REFRESH-INTERVAL;VALUE=DURATION:PT1H
X-Robots-Tag:noindex
X-PUBLISHED-TTL:PT1H
BEGIN:VTIMEZONE
TZID:America/Chicago
BEGIN:DAYLIGHT
TZOFFSETFROM:-0600
TZOFFSETTO:-0500
TZNAME:CDT
DTSTART:20220313T080000
END:DAYLIGHT
BEGIN:STANDARD
TZOFFSETFROM:-0500
TZOFFSETTO:-0600
TZNAME:CST
DTSTART:20221106T070000
END:STANDARD
BEGIN:DAYLIGHT
TZOFFSETFROM:-0600
TZOFFSETTO:-0500
TZNAME:CDT
DTSTART:20230312T080000
END:DAYLIGHT
BEGIN:STANDARD
TZOFFSETFROM:-0500
TZOFFSETTO:-0600
TZNAME:CST
DTSTART:20231105T070000
END:STANDARD
BEGIN:DAYLIGHT
TZOFFSETFROM:-0600
TZOFFSETTO:-0500
TZNAME:CDT
DTSTART:20240310T080000
END:DAYLIGHT
BEGIN:STANDARD
TZOFFSETFROM:-0500
TZOFFSETTO:-0600
TZNAME:CST
DTSTART:20241103T070000
END:STANDARD
END:VTIMEZONE
BEGIN:VEVENT
DTSTART;VALUE=DATE:20230710
DTEND;VALUE=DATE:20230722
DTSTAMP:20260422T031853
CREATED:20230131T203641Z
LAST-MODIFIED:20230131T203641Z
UID:11472-1688947200-1689983999@plasticsbusinessmag.com
SUMMARY:RJG Academy Master Molder® II
DESCRIPTION:The Master Molder® II qualification is designed for process personnel who need to understand and demonstrate processing using cavity pressure. Participants will learn to apply cavity pressure control strategies to accomplish DECOUPLED MOLDING® III Process techniques using instrumentation and data acquisition\, and gain a deeper understanding of the improvements Decoupled III provides for process repeatability and robustness. This course also covers the proper use of instrumentation and how to achieve process control solutions utilizing Decoupled III processing techniques. You will learn how monitoring techniques are used to detect and contain suspect parts and how to perform accurate machine and mold qualifications. \nParticipants will get extensive hands-on training on the RJG eDART® or CoPilot® System.
URL:https://plasticsbusinessmag.com/event/rjg-academy-master-molder-ii/
CATEGORIES:Training
ATTACH;FMTTYPE=image/jpeg:https://plasticsbusinessmag.com/wp-content/uploads/Plastics-Business-Featured-Image-e1757030453900.jpg
END:VEVENT
BEGIN:VEVENT
DTSTART;VALUE=DATE:20230724
DTEND;VALUE=DATE:20230805
DTSTAMP:20260422T031853
CREATED:20230131T201606Z
LAST-MODIFIED:20230131T201606Z
UID:11462-1690156800-1691193599@plasticsbusinessmag.com
SUMMARY:RJG Academy Master Molder® I
DESCRIPTION:This is the industry’s premier standard demand for training! The Master Molder® I qualification is designed for the Process Technician\, Engineer\, or Manager who needs to understand and demonstrate injection molding skills at the machine. Participants will be able to establish the development of a DECOUPLED MOLDING® II process. Anyone who is responsible for implementing a processing strategy in their plant\, or who is held accountable for quality issues\, are prime candidates for this training. \nThere is a reason that companies in the injection molding industry actively seek out Master Molder qualified molders to join their team. Participants learn to apply methods\, strategies\, and techniques of injection molding from the plastic’s point of view\, all taught in a real-world production floor environment. This hands-on\, in-depth training enables participants to leave with solid skills that can be applied immediately in their facility.
URL:https://plasticsbusinessmag.com/event/rjg-academy-master-molder-i-6/
CATEGORIES:Training
ATTACH;FMTTYPE=image/jpeg:https://plasticsbusinessmag.com/wp-content/uploads/Plastics-Business-Featured-Image-e1757030453900.jpg
END:VEVENT
BEGIN:VEVENT
DTSTART;VALUE=DATE:20230725
DTEND;VALUE=DATE:20230729
DTSTAMP:20260422T031853
CREATED:20230131T174625Z
LAST-MODIFIED:20230131T182508Z
UID:11404-1690243200-1690588799@plasticsbusinessmag.com
SUMMARY:RJG Academy Fundamentals of Systematic Injection Molding
DESCRIPTION:This four-day course is for technical and non-technical personnel who are associated with production of thermoplastic injection molded components. This course provides hands-on\, practical applications that introduce the principles of both injection molding and DECOUPLED MOLDING® processes. Areas covered include molding machine construction\, process parameter selection (setting of the molding process)\, the effect of mold temperature control\, material handling\, and the use of additives with reference to component quality and consistency.
URL:https://plasticsbusinessmag.com/event/rgj-academy-fundamentals-of-systematic-injection-molding/
CATEGORIES:Training
ATTACH;FMTTYPE=image/jpeg:https://plasticsbusinessmag.com/wp-content/uploads/Plastics-Business-Featured-Image-e1757030453900.jpg
END:VEVENT
BEGIN:VEVENT
DTSTART;VALUE=DATE:20230731
DTEND;VALUE=DATE:20230812
DTSTAMP:20260422T031853
CREATED:20230131T204623Z
LAST-MODIFIED:20230131T204623Z
UID:11478-1690761600-1691798399@plasticsbusinessmag.com
SUMMARY:RJG Academy Master Molder® II
DESCRIPTION:The Master Molder® II qualification is designed for process personnel who need to understand and demonstrate processing using cavity pressure. Participants will learn to apply cavity pressure control strategies to accomplish DECOUPLED MOLDING® III Process techniques using instrumentation and data acquisition\, and gain a deeper understanding of the improvements Decoupled III provides for process repeatability and robustness. This course also covers the proper use of instrumentation and how to achieve process control solutions utilizing Decoupled III processing techniques. You will learn how monitoring techniques are used to detect and contain suspect parts and how to perform accurate machine and mold qualifications. \nParticipants will get extensive hands-on training on the RJG eDART® or CoPilot® System.
URL:https://plasticsbusinessmag.com/event/rjg-academy-master-molder-ii-4/
CATEGORIES:Training
ATTACH;FMTTYPE=image/jpeg:https://plasticsbusinessmag.com/wp-content/uploads/Plastics-Business-Featured-Image-e1757030453900.jpg
END:VEVENT
END:VCALENDAR