BEGIN:VCALENDAR
VERSION:2.0
PRODID:-//Plastics Business - ECPv6.15.17.1//NONSGML v1.0//EN
CALSCALE:GREGORIAN
METHOD:PUBLISH
X-WR-CALNAME:Plastics Business
X-ORIGINAL-URL:https://plasticsbusinessmag.com
X-WR-CALDESC:Events for Plastics Business
REFRESH-INTERVAL;VALUE=DURATION:PT1H
X-Robots-Tag:noindex
X-PUBLISHED-TTL:PT1H
BEGIN:VTIMEZONE
TZID:America/Chicago
BEGIN:DAYLIGHT
TZOFFSETFROM:-0600
TZOFFSETTO:-0500
TZNAME:CDT
DTSTART:20220313T080000
END:DAYLIGHT
BEGIN:STANDARD
TZOFFSETFROM:-0500
TZOFFSETTO:-0600
TZNAME:CST
DTSTART:20221106T070000
END:STANDARD
BEGIN:DAYLIGHT
TZOFFSETFROM:-0600
TZOFFSETTO:-0500
TZNAME:CDT
DTSTART:20230312T080000
END:DAYLIGHT
BEGIN:STANDARD
TZOFFSETFROM:-0500
TZOFFSETTO:-0600
TZNAME:CST
DTSTART:20231105T070000
END:STANDARD
BEGIN:DAYLIGHT
TZOFFSETFROM:-0600
TZOFFSETTO:-0500
TZNAME:CDT
DTSTART:20240310T080000
END:DAYLIGHT
BEGIN:STANDARD
TZOFFSETFROM:-0500
TZOFFSETTO:-0600
TZNAME:CST
DTSTART:20241103T070000
END:STANDARD
END:VTIMEZONE
BEGIN:VEVENT
DTSTART;VALUE=DATE:20230220
DTEND;VALUE=DATE:20230304
DTSTAMP:20260422T121008
CREATED:20230131T200113Z
LAST-MODIFIED:20230131T200113Z
UID:11456-1676851200-1677887999@plasticsbusinessmag.com
SUMMARY:RJG Academy Master Molder® I
DESCRIPTION:This is the industry’s premier standard demand for training! The Master Molder® I qualification is designed for the Process Technician\, Engineer\, or Manager who needs to understand and demonstrate injection molding skills at the machine. Participants will be able to establish the development of a DECOUPLED MOLDING® II process. Anyone who is responsible for implementing a processing strategy in their plant\, or who is held accountable for quality issues\, are prime candidates for this training. \nThere is a reason that companies in the injection molding industry actively seek out Master Molder qualified molders to join their team. Participants learn to apply methods\, strategies\, and techniques of injection molding from the plastic’s point of view\, all taught in a real-world production floor environment. This hands-on\, in-depth training enables participants to leave with solid skills that can be applied immediately in their facility.
URL:https://plasticsbusinessmag.com/event/rjg-academy-master-molder-i-3/
CATEGORIES:Training
ATTACH;FMTTYPE=image/jpeg:https://plasticsbusinessmag.com/wp-content/uploads/Plastics-Business-Featured-Image-e1757030453900.jpg
END:VEVENT
BEGIN:VEVENT
DTSTART;VALUE=DATE:20230227
DTEND;VALUE=DATE:20230304
DTSTAMP:20260422T121008
CREATED:20230131T205009Z
LAST-MODIFIED:20230131T205009Z
UID:11480-1677456000-1677887999@plasticsbusinessmag.com
SUMMARY:RJG Academy Online Fundamentals of Systematic Injection Molding
DESCRIPTION:This is an online\, interactive course led by a live instructor with a self-guided lab\, or an online lab for those who do not have access to a machine. Participants will spend half a day\, Monday through Friday\, covering course content led by a live RJG instructor. Participants will then be given detailed instructions for self-guided lab activities. For those individuals without machine access\, the lab exercises will be performed online by the instructor. If you have questions during the self-guided lab you may contact your assigned coach for assistance. Areas covered include injection molding machine construction\, process parameter selection (setting the molding process)\, the effect of mold temperature control\, material handling\, and the use of additives with reference to component quality and consistency.
URL:https://plasticsbusinessmag.com/event/rjg-academy-online-fundamentals-of-systematic-injection-molding/
CATEGORIES:Training
ATTACH;FMTTYPE=image/jpeg:https://plasticsbusinessmag.com/wp-content/uploads/Plastics-Business-Featured-Image-e1757030453900.jpg
END:VEVENT
BEGIN:VEVENT
DTSTART;VALUE=DATE:20230306
DTEND;VALUE=DATE:20230318
DTSTAMP:20260422T121008
CREATED:20230131T201942Z
LAST-MODIFIED:20230131T201942Z
UID:11464-1678060800-1679097599@plasticsbusinessmag.com
SUMMARY:RJG Academy Master Molder® I
DESCRIPTION:This is the industry’s premier standard demand for training! The Master Molder® I qualification is designed for the Process Technician\, Engineer\, or Manager who needs to understand and demonstrate injection molding skills at the machine. Participants will be able to establish the development of a DECOUPLED MOLDING® II process. Anyone who is responsible for implementing a processing strategy in their plant\, or who is held accountable for quality issues\, are prime candidates for this training. \nThere is a reason that companies in the injection molding industry actively seek out Master Molder qualified molders to join their team. Participants learn to apply methods\, strategies\, and techniques of injection molding from the plastic’s point of view\, all taught in a real-world production floor environment. This hands-on\, in-depth training enables participants to leave with solid skills that can be applied immediately in their facility.
URL:https://plasticsbusinessmag.com/event/rjg-academy-master-molder-i-7/
CATEGORIES:Training
ATTACH;FMTTYPE=image/jpeg:https://plasticsbusinessmag.com/wp-content/uploads/Plastics-Business-Featured-Image-e1757030453900.jpg
END:VEVENT
BEGIN:VEVENT
DTSTART;VALUE=DATE:20230307
DTEND;VALUE=DATE:20230310
DTSTAMP:20260422T121008
CREATED:20230131T174135Z
LAST-MODIFIED:20230131T182521Z
UID:11402-1678147200-1678406399@plasticsbusinessmag.com
SUMMARY:RJG Academy eDART Training
DESCRIPTION:eDART® training (v9 or v10) is intended for anyone who needs know how to effectively run an eDART® System process controller or needs to know how to use the eDART® System to identify molding problems\, such as short shots or other process inconsistencies. \nAttendees will increase their DECOUPLED MOLDING® processing skills by learning about cavity pressure sensors\, including how to connect and verify that they are properly installed\, start and stop jobs\, verify alarms and templates\, set-up the eDART® to do abnormal part containment\, and properly set up alarms to catch and contain all suspect parts. The course will include an introduction to Decoupled III Machine Control\, but it does not cover building a process.
URL:https://plasticsbusinessmag.com/event/rgj-academy-edart-training/
CATEGORIES:Training
ATTACH;FMTTYPE=image/jpeg:https://plasticsbusinessmag.com/wp-content/uploads/Plastics-Business-Featured-Image-e1757030453900.jpg
END:VEVENT
BEGIN:VEVENT
DTSTART;VALUE=DATE:20230320
DTEND;VALUE=DATE:20230401
DTSTAMP:20260422T121008
CREATED:20230131T194652Z
LAST-MODIFIED:20230131T194943Z
UID:11448-1679270400-1680307199@plasticsbusinessmag.com
SUMMARY:RJG Academy Master Molder® I
DESCRIPTION:This is the industry’s premier standard demand for training! The Master Molder® I qualification is designed for the Process Technician\, Engineer\, or Manager who needs to understand and demonstrate injection molding skills at the machine. Participants will be able to establish the development of a DECOUPLED MOLDING® II process. Anyone who is responsible for implementing a processing strategy in their plant\, or who is held accountable for quality issues\, are prime candidates for this training. \nThere is a reason that companies in the injection molding industry actively seek out Master Molder qualified molders to join their team. Participants learn to apply methods\, strategies\, and techniques of injection molding from the plastic’s point of view\, all taught in a real-world production floor environment. This hands-on\, in-depth training enables participants to leave with solid skills that can be applied immediately in their facility.
URL:https://plasticsbusinessmag.com/event/rjg-academy/
CATEGORIES:Training
ATTACH;FMTTYPE=image/jpeg:https://plasticsbusinessmag.com/wp-content/uploads/Plastics-Business-Featured-Image-e1757030453900.jpg
END:VEVENT
BEGIN:VEVENT
DTSTART;VALUE=DATE:20230320
DTEND;VALUE=DATE:20230401
DTSTAMP:20260422T121008
CREATED:20230131T204200Z
LAST-MODIFIED:20230131T204200Z
UID:11476-1679270400-1680307199@plasticsbusinessmag.com
SUMMARY:RJG Academy Master Molder® II
DESCRIPTION:The Master Molder® II qualification is designed for process personnel who need to understand and demonstrate processing using cavity pressure. Participants will learn to apply cavity pressure control strategies to accomplish DECOUPLED MOLDING® III Process techniques using instrumentation and data acquisition\, and gain a deeper understanding of the improvements Decoupled III provides for process repeatability and robustness. This course also covers the proper use of instrumentation and how to achieve process control solutions utilizing Decoupled III processing techniques. You will learn how monitoring techniques are used to detect and contain suspect parts and how to perform accurate machine and mold qualifications. \nParticipants will get extensive hands-on training on the RJG eDART® or CoPilot® System.
URL:https://plasticsbusinessmag.com/event/rjg-academy-master-molder-ii-3/
CATEGORIES:Training
ATTACH;FMTTYPE=image/jpeg:https://plasticsbusinessmag.com/wp-content/uploads/Plastics-Business-Featured-Image-e1757030453900.jpg
END:VEVENT
BEGIN:VEVENT
DTSTART;VALUE=DATE:20230320
DTEND;VALUE=DATE:20230401
DTSTAMP:20260422T121008
CREATED:20230131T210020Z
LAST-MODIFIED:20230131T210020Z
UID:11488-1679270400-1680307199@plasticsbusinessmag.com
SUMMARY:RJG Academy Train the Trainer Qualification
DESCRIPTION:RJG’s Train the Trainer program is designed for those who fully intend to instruct others in their organization on the methodologies and techniques learned in their Master Molder training. Those who successfully pass the Train the Trainer program will have the title of Qualified Trainer and are then eligible to teach Injection Molding Essentials\, Fundamentals of Systematic Injection Molding\, DECOUPLED MOLDING® Workshop\, Successful Strategies for Tool Launch\, Mold Design\, and Part Design within their organization. To be successful as trainers\, candidates must have a strong DECOUPLED MOLDING® background and enough experience to be comfortable in front of a classroom. \nThe true value of this program is that Train the Trainer graduates gain the skills\, tools\, and confidence needed to successfully pass this knowledge on to others in their company. This is a great advantage for anyone directly responsible for implementing a training program. The strategies\, DECOUPLED MOLDING® techniques\, and implementation processes taught in RJG’s Master Molder® Series are emphasized in this course. Trainers will be coached in presenting a participant-centered approach that focuses on the needs of learners and incorporates creative training techniques. \nThis intensive\, two-week training requires a huge commitment from every participant. They are required to teach others in the group daily in order to refine their training techniques. Each participant is evaluated daily by the instructor and entire class on their teaching skills\, use of visual aids\, and interaction with the class. They are also required to develop training materials to support their learning objectives\, including minimal purchases to aid in getting their content across to the students. Each participant may conduct a hands-on lab session that encourages student participation and reinforces safety standards. \nPrerequisites are in place to ensure only the top of the class graduates of the Master Molder® Series move into this phase of the program. The Train the Trainer endorsement is meant to allow the “best of the best” from the Master Molder® program to train others within their own company.
URL:https://plasticsbusinessmag.com/event/rjg-academy-train-the-trainer-qualification/
CATEGORIES:Training
ATTACH;FMTTYPE=image/jpeg:https://plasticsbusinessmag.com/wp-content/uploads/Plastics-Business-Featured-Image-e1757030453900.jpg
END:VEVENT
END:VCALENDAR