BEGIN:VCALENDAR
VERSION:2.0
PRODID:-//Plastics Business - ECPv6.15.17.1//NONSGML v1.0//EN
CALSCALE:GREGORIAN
METHOD:PUBLISH
X-WR-CALNAME:Plastics Business
X-ORIGINAL-URL:https://plasticsbusinessmag.com
X-WR-CALDESC:Events for Plastics Business
REFRESH-INTERVAL;VALUE=DURATION:PT1H
X-Robots-Tag:noindex
X-PUBLISHED-TTL:PT1H
BEGIN:VTIMEZONE
TZID:America/Chicago
BEGIN:DAYLIGHT
TZOFFSETFROM:-0600
TZOFFSETTO:-0500
TZNAME:CDT
DTSTART:20220313T080000
END:DAYLIGHT
BEGIN:STANDARD
TZOFFSETFROM:-0500
TZOFFSETTO:-0600
TZNAME:CST
DTSTART:20221106T070000
END:STANDARD
BEGIN:DAYLIGHT
TZOFFSETFROM:-0600
TZOFFSETTO:-0500
TZNAME:CDT
DTSTART:20230312T080000
END:DAYLIGHT
BEGIN:STANDARD
TZOFFSETFROM:-0500
TZOFFSETTO:-0600
TZNAME:CST
DTSTART:20231105T070000
END:STANDARD
BEGIN:DAYLIGHT
TZOFFSETFROM:-0600
TZOFFSETTO:-0500
TZNAME:CDT
DTSTART:20240310T080000
END:DAYLIGHT
BEGIN:STANDARD
TZOFFSETFROM:-0500
TZOFFSETTO:-0600
TZNAME:CST
DTSTART:20241103T070000
END:STANDARD
END:VTIMEZONE
BEGIN:VEVENT
DTSTART;TZID=America/Chicago:20230124T080000
DTEND;TZID=America/Chicago:20230124T170000
DTSTAMP:20260422T065905
CREATED:20230124T151659Z
LAST-MODIFIED:20230124T151659Z
UID:11359-1674547200-1674579600@plasticsbusinessmag.com
SUMMARY:Conair and Partners to Extrude Polycarbonate Pipettes at MD&M 2023
DESCRIPTION:At MD&M West/Plastec West 2023\, Conair Group\, together with technology partners Davis-Standard and Zumbach Electronics\, is demonstrating the extrusion of medical-grade\, ¼-inch polycarbonate tube\, cleanly and continuously cut into 5-inch pipettes that need no secondary cleaning or finishing operations. Four new Conair products will make their operational debut on the extrusion line\, which is operating in Booth 3911 of the MD&M West tradeshow being held at the Anaheim Convention Center in Anaheim\, CA\, Feb. 7-9\, 2023. \nhttps://www.conairgroup.com/about/news-press/news-item/conair-davis-standard-and-zumbach-team-up-to-extrude-polycarbonate-medical-pipettes-at-mdm-west-2023/?MassEmailID=357513433&email_id=94&emailaddress=dianna%40petersonpublications.com&submission_date=1%2f17%2f2023+4%3a17%3a19+PM&MemberID=2842DAE4C5264569886BB35E7DCA6E44&confirmed=1&Modified=
URL:https://plasticsbusinessmag.com/event/conair-and-partners-to-extrude-polycarbonate-pipettes-at-mdm-2023/
CATEGORIES:Tradeshow
ATTACH;FMTTYPE=image/jpeg:https://plasticsbusinessmag.com/wp-content/uploads/M-TPC_HighRes-scaled-1.jpg
END:VEVENT
END:VCALENDAR