BEGIN:VCALENDAR
VERSION:2.0
PRODID:-//Plastics Business - ECPv6.15.17.1//NONSGML v1.0//EN
CALSCALE:GREGORIAN
METHOD:PUBLISH
X-WR-CALNAME:Plastics Business
X-ORIGINAL-URL:https://plasticsbusinessmag.com
X-WR-CALDESC:Events for Plastics Business
REFRESH-INTERVAL;VALUE=DURATION:PT1H
X-Robots-Tag:noindex
X-PUBLISHED-TTL:PT1H
BEGIN:VTIMEZONE
TZID:America/Chicago
BEGIN:DAYLIGHT
TZOFFSETFROM:-0600
TZOFFSETTO:-0500
TZNAME:CDT
DTSTART:20230312T080000
END:DAYLIGHT
BEGIN:STANDARD
TZOFFSETFROM:-0500
TZOFFSETTO:-0600
TZNAME:CST
DTSTART:20231105T070000
END:STANDARD
BEGIN:DAYLIGHT
TZOFFSETFROM:-0600
TZOFFSETTO:-0500
TZNAME:CDT
DTSTART:20240310T080000
END:DAYLIGHT
BEGIN:STANDARD
TZOFFSETFROM:-0500
TZOFFSETTO:-0600
TZNAME:CST
DTSTART:20241103T070000
END:STANDARD
BEGIN:DAYLIGHT
TZOFFSETFROM:-0600
TZOFFSETTO:-0500
TZNAME:CDT
DTSTART:20250309T080000
END:DAYLIGHT
BEGIN:STANDARD
TZOFFSETFROM:-0500
TZOFFSETTO:-0600
TZNAME:CST
DTSTART:20251102T070000
END:STANDARD
END:VTIMEZONE
BEGIN:VEVENT
DTSTART;TZID=America/Chicago:20240506T080000
DTEND;TZID=America/Chicago:20240510T170000
DTSTAMP:20260421T043842
CREATED:20230914T172034Z
LAST-MODIFIED:20230914T172034Z
UID:12156-1714982400-1715360400@plasticsbusinessmag.com
SUMMARY:NPE2024: The Plastics Show
DESCRIPTION:The Plastics Industry Association (PLASTICS) announced that NPE2024: The Plastics Show registrations is open as of September 12\, 2023 through May 2024. NPE2024 will be the most impactful trade show of the year for all plastics industry sectors in the U.S. and globally\, with more than 55\,000 attendees expected.  \nEvery three years\, NPE offers the plastics industry a global platform to highlight innovation across a show floor with more than 1.1 million net square feet of exhibit space at the Orange County Convention Center in Orlando\, Fla.  \nNPE2024 returns\, with the theme Made for You\, where attendees are front and center of all experiences happening at the show. The event\, held May 6-10\, 2024\, will offer opportunities for everyone in the industry\, even those just starting their career. Some notable experiences at NPE2024 include:  \n\nSix technology zones with 2\,000+ exhibitors showcasing their latest products and services\nMore than 100 speaker presentations on trending topics that foster innovation\, drive circularity and exemplify collaboration\nThe brand-new NPE Circularity Hub where attendees will experience the plastics circular economy\, from raw materials to go-to market consumer products\n\n\nInfluential women in the plastics industry will share their success stories with those attending the Women in Plastics Breakfast\n\n\nMore than 355 first-time exhibitors bringing to NPE2024 new products and perspectives\n\n\nThe inaugural NPE Opening Night Party featuring the band Pop Rocks\, games\, food and drinks\n\nNPE2024 attendees will gain exclusive access to the entire plastics supply chain\, including machinery and equipment\, raw materials\, recycling and sustainability\, automation and robotics\, 3D and 4D printing\, inspection\, design\, and more. NPE exhibitors service vital markets such as automotive\, consumer products\, recycling\, packaging\, medical\, and building and construction. \nImportant dates to remember if planning on attending NPE2024: \n\nAttendee registration for NPE2024 opens on Tuesday\, September 12\, 2023\nRegistration for the hotel room block also begins on Tuesday\, September 12\, 2023\nNPE2024 event dates are May 6-10\, 2024\, at the Orange County Convention Center in Orlando\, Fla.\n\nTickets for NPE2024 range from $100 – $600; prices vary depending on early bird\, advanced and on-site sales. Add-ons to the NPE Opening Night Party\, Women in Plastics Breakfast\, Seminarios Latinoamericanos\, and 3D Printing for Plastic Processors are also available on a first-come\, first-served basis\, inquire for details. \nFor more information about NPE2024: The Plastics Show and to register\, visit: NPE.org.
URL:https://plasticsbusinessmag.com/event/npe2024-the-plastics-show/
LOCATION:Orange County Convention Center\, Orlando\, FL
CATEGORIES:Convention
ATTACH;FMTTYPE=image/webp:https://plasticsbusinessmag.com/wp-content/uploads/pb-enews-logo-NPE-2024.webp
END:VEVENT
END:VCALENDAR