BEGIN:VCALENDAR
VERSION:2.0
PRODID:-//Plastics Business - ECPv6.15.17.1//NONSGML v1.0//EN
CALSCALE:GREGORIAN
METHOD:PUBLISH
X-WR-CALNAME:Plastics Business
X-ORIGINAL-URL:https://plasticsbusinessmag.com
X-WR-CALDESC:Events for Plastics Business
REFRESH-INTERVAL;VALUE=DURATION:PT1H
X-Robots-Tag:noindex
X-PUBLISHED-TTL:PT1H
BEGIN:VTIMEZONE
TZID:America/Chicago
BEGIN:DAYLIGHT
TZOFFSETFROM:-0600
TZOFFSETTO:-0500
TZNAME:CDT
DTSTART:20220313T080000
END:DAYLIGHT
BEGIN:STANDARD
TZOFFSETFROM:-0500
TZOFFSETTO:-0600
TZNAME:CST
DTSTART:20221106T070000
END:STANDARD
BEGIN:DAYLIGHT
TZOFFSETFROM:-0600
TZOFFSETTO:-0500
TZNAME:CDT
DTSTART:20230312T080000
END:DAYLIGHT
BEGIN:STANDARD
TZOFFSETFROM:-0500
TZOFFSETTO:-0600
TZNAME:CST
DTSTART:20231105T070000
END:STANDARD
BEGIN:DAYLIGHT
TZOFFSETFROM:-0600
TZOFFSETTO:-0500
TZNAME:CDT
DTSTART:20240310T080000
END:DAYLIGHT
BEGIN:STANDARD
TZOFFSETFROM:-0500
TZOFFSETTO:-0600
TZNAME:CST
DTSTART:20241103T070000
END:STANDARD
END:VTIMEZONE
BEGIN:VEVENT
DTSTART;VALUE=DATE:20231024
DTEND;VALUE=DATE:20231027
DTSTAMP:20260421T183330
CREATED:20220620T210100Z
LAST-MODIFIED:20220620T210100Z
UID:10661-1698105600-1698364799@plasticsbusinessmag.com
SUMMARY:SPE Thermoforming Division's 2023 Conference
DESCRIPTION:The 2023 conference\, with a theme of ‘The Business of Thermoforming’\, will be a three-day event and is expected to draw a large number of exhibitors. Highlights of the conference will include: \n-Welcome Reception \n-Student Radio-Controlled Car Race and Design Competition \n-Thermoformed Parts Competition \n-Thermoforming Awards Dinner\, with the Announcement & Celebration of the Thermoformer of the Year
URL:https://plasticsbusinessmag.com/event/spe-thermoforming-divisions-2023-conference/
LOCATION:Huntington Convention Center\, 300 Lakeside Ave E\, Cleveland\, OH\, 44114\, United States
CATEGORIES:Convention
ATTACH;FMTTYPE=image/jpeg:https://plasticsbusinessmag.com/wp-content/uploads/Plastics-Business-Featured-Image-e1757030453900.jpg
END:VEVENT
END:VCALENDAR